BEGIN:VCALENDAR
VERSION:2.0
PRODID:-//Ponies &amp; Pipsqueaks - ECPv6.15.20//NONSGML v1.0//EN
CALSCALE:GREGORIAN
METHOD:PUBLISH
X-WR-CALNAME:Ponies &amp; Pipsqueaks
X-ORIGINAL-URL:https://poniesandpipsqueaks.com
X-WR-CALDESC:Events for Ponies &amp; Pipsqueaks
REFRESH-INTERVAL;VALUE=DURATION:PT1H
X-Robots-Tag:noindex
X-PUBLISHED-TTL:PT1H
BEGIN:VTIMEZONE
TZID:America/Vancouver
BEGIN:DAYLIGHT
TZOFFSETFROM:-0800
TZOFFSETTO:-0700
TZNAME:PDT
DTSTART:20220313T100000
END:DAYLIGHT
BEGIN:STANDARD
TZOFFSETFROM:-0700
TZOFFSETTO:-0800
TZNAME:PST
DTSTART:20221106T090000
END:STANDARD
BEGIN:DAYLIGHT
TZOFFSETFROM:-0800
TZOFFSETTO:-0700
TZNAME:PDT
DTSTART:20230312T100000
END:DAYLIGHT
BEGIN:STANDARD
TZOFFSETFROM:-0700
TZOFFSETTO:-0800
TZNAME:PST
DTSTART:20231105T090000
END:STANDARD
BEGIN:DAYLIGHT
TZOFFSETFROM:-0800
TZOFFSETTO:-0700
TZNAME:PDT
DTSTART:20240310T100000
END:DAYLIGHT
BEGIN:STANDARD
TZOFFSETFROM:-0700
TZOFFSETTO:-0800
TZNAME:PST
DTSTART:20241103T090000
END:STANDARD
END:VTIMEZONE
BEGIN:VEVENT
DTSTART;TZID=America/Vancouver:20231105T100000
DTEND;TZID=America/Vancouver:20231105T112000
DTSTAMP:20260420T213727
CREATED:20230922T040928Z
LAST-MODIFIED:20231114T051125Z
UID:10001746-1699178400-1699183200@poniesandpipsqueaks.com
SUMMARY:Field Trip - Option 3
DESCRIPTION:First 5 minutes – Review farm safety. \n\n\n\nGroups will be split into 2 groups to rotate between stations \n\n\n\nStation 1 – Farm tour with horse markings scavenger hunt \n\n\n\nStation 2 – Pony grooming lesson and a PONY RIDE (minimum age of 3\, maximum height/weight of 5 feet tall or 95lbs) \n\n\n\nPlease note: A waiver must be signed for each child. Please find a download link in your confirmation email to send to parents and guardians.
URL:https://poniesandpipsqueaks.com/event/field-trip-option-3/
LOCATION:The Briar Patch Farm\, 6044 Oldfield Rd\, Saanich\, BC\, V9E 2J4\, Canada
CATEGORIES:Field Trip
ATTACH;FMTTYPE=image/jpeg:https://poniesandpipsqueaks.com/wp-content/uploads/2022/01/WEB_Krista_Family_142.jpg
END:VEVENT
END:VCALENDAR