BEGIN:VCALENDAR
VERSION:2.0
PRODID:-//Ponies &amp; Pipsqueaks - ECPv6.15.20//NONSGML v1.0//EN
CALSCALE:GREGORIAN
METHOD:PUBLISH
X-ORIGINAL-URL:https://poniesandpipsqueaks.com
X-WR-CALDESC:Events for Ponies &amp; Pipsqueaks
REFRESH-INTERVAL;VALUE=DURATION:PT1H
X-Robots-Tag:noindex
X-PUBLISHED-TTL:PT1H
BEGIN:VTIMEZONE
TZID:America/Vancouver
BEGIN:DAYLIGHT
TZOFFSETFROM:-0800
TZOFFSETTO:-0700
TZNAME:PDT
DTSTART:20220313T100000
END:DAYLIGHT
BEGIN:STANDARD
TZOFFSETFROM:-0700
TZOFFSETTO:-0800
TZNAME:PST
DTSTART:20221106T090000
END:STANDARD
BEGIN:DAYLIGHT
TZOFFSETFROM:-0800
TZOFFSETTO:-0700
TZNAME:PDT
DTSTART:20230312T100000
END:DAYLIGHT
BEGIN:STANDARD
TZOFFSETFROM:-0700
TZOFFSETTO:-0800
TZNAME:PST
DTSTART:20231105T090000
END:STANDARD
BEGIN:DAYLIGHT
TZOFFSETFROM:-0800
TZOFFSETTO:-0700
TZNAME:PDT
DTSTART:20240310T100000
END:DAYLIGHT
BEGIN:STANDARD
TZOFFSETFROM:-0700
TZOFFSETTO:-0800
TZNAME:PST
DTSTART:20241103T090000
END:STANDARD
END:VTIMEZONE
BEGIN:VEVENT
DTSTART;TZID=America/Vancouver:20230806T100000
DTEND;TZID=America/Vancouver:20230806T110000
DTSTAMP:20260425T064153
CREATED:20221214T211315Z
LAST-MODIFIED:20221214T211345Z
UID:10001472-1691316000-1691319600@poniesandpipsqueaks.com
SUMMARY:Weekly Adventure Quests - 6-Week Session 3 - 10am
DESCRIPTION:Costumes\, ponies\, adventure quests and endless possibilities! \n\n\n\nPonies and Pipsqueaks Adventure Quest Programs are a great way to introduce children to ponies. This 6 week program is structured for children 3.5-7\, incorporating imagination play and pony rides. \n\n\n\nTo view the dates in this session\, click the “Event Series” link above.
URL:https://poniesandpipsqueaks.com/event/weekly-adventure-quests-session-3-10am-2023/2023-08-06/
LOCATION:The Briar Patch Farm\, 6044 Oldfield Road\, Saanich\, BC\, Canada
CATEGORIES:Pony Adventure
ATTACH;FMTTYPE=image/jpeg:https://poniesandpipsqueaks.com/wp-content/uploads/2022/01/DSC_8692WEB-1.jpg
END:VEVENT
BEGIN:VEVENT
DTSTART;TZID=America/Vancouver:20230806T100000
DTEND;TZID=America/Vancouver:20230806T110000
DTSTAMP:20260425T064153
CREATED:20230105T054456Z
LAST-MODIFIED:20230710T215401Z
UID:10001572-1691316000-1691319600@poniesandpipsqueaks.com
SUMMARY:Adventure Quest - 1 Time Experience - Safari - 10:00am
DESCRIPTION:Costumes\, ponies\, adventure quests and endless possibilities! \n\n\n\nPonies and Pipsqueaks Adventure Quest Programs are a great way to introduce children to ponies. We are now offering this amazing experience in a 1-time experience for those who can’t join us for our 6-week sessions! This program is structured for children 3.5-7\, incorporating imagination play and pony rides. \n\n\n\nAugust 6 Safari Day!  An important part to keeping the forest safe and healthy is researching and documenting it. Our Ponies and Pipsqueaks Research Team is in charge of taking an inventory of the jungle to see how many animals live there. Watch out for lions!
URL:https://poniesandpipsqueaks.com/event/adventure-quest-1-time-experience-safari-1000am-3/
LOCATION:The Briar Patch Farm\, 6044 Oldfield Rd\, Saanich\, BC\, V9E 2J4\, Canada
ATTACH;FMTTYPE=image/jpeg:https://poniesandpipsqueaks.com/wp-content/uploads/2022/12/AdventureQuests_2022_149-scaled-e1670362612723.jpg
END:VEVENT
BEGIN:VEVENT
DTSTART;TZID=America/Vancouver:20230806T113000
DTEND;TZID=America/Vancouver:20230806T123000
DTSTAMP:20260425T064153
CREATED:20221214T211652Z
LAST-MODIFIED:20221214T211724Z
UID:10001478-1691321400-1691325000@poniesandpipsqueaks.com
SUMMARY:Weekly Adventure Quests - 6-Week Session 3 - 11:30am
DESCRIPTION:Costumes\, ponies\, adventure quests and endless possibilities! \n\n\n\nPonies and Pipsqueaks Adventure Quest Programs are a great way to introduce children to ponies. This 6 week program is structured for children 3.5-7\, incorporating imagination play and pony rides. \n\n\n\nTo view the dates in this session\, click the “Event Series” link above.
URL:https://poniesandpipsqueaks.com/event/weekly-adventure-quests-session-3-1130am-2023/2023-08-06/
LOCATION:The Briar Patch Farm\, 6044 Oldfield Road\, Saanich\, BC\, Canada
CATEGORIES:Pony Adventure
ATTACH;FMTTYPE=image/jpeg:https://poniesandpipsqueaks.com/wp-content/uploads/2022/01/DSC_8692WEB-1.jpg
END:VEVENT
BEGIN:VEVENT
DTSTART;TZID=America/Vancouver:20230806T113000
DTEND;TZID=America/Vancouver:20230806T123000
DTSTAMP:20260425T064153
CREATED:20230105T054137Z
LAST-MODIFIED:20230710T215431Z
UID:10001569-1691321400-1691325000@poniesandpipsqueaks.com
SUMMARY:Adventure Quest - 1 Time Experience - Safari - 11:30am
DESCRIPTION:Costumes\, ponies\, adventure quests and endless possibilities! \n\n\n\nPonies and Pipsqueaks Adventure Quest Programs are a great way to introduce children to ponies. We are now offering this amazing experience in a 1-time experience for those who can’t join us for our 6-week sessions! This program is structured for children 3.5-7\, incorporating imagination play and pony rides. \n\n\n\nAugust 6 is Safari Day!  An important part to keeping the forest safe and healthy is researching and documenting it. Our Ponies and Pipsqueaks Research Team is in charge of taking an inventory of the jungle to see how many animals live there. Watch out for lions!
URL:https://poniesandpipsqueaks.com/event/adventure-quest-1-time-experience-safari-1130am-3/
LOCATION:The Briar Patch Farm\, 6044 Oldfield Rd\, Saanich\, BC\, V9E 2J4\, Canada
ATTACH;FMTTYPE=image/jpeg:https://poniesandpipsqueaks.com/wp-content/uploads/2022/12/AdventureQuests_2022_149-scaled-e1670362612723.jpg
END:VEVENT
BEGIN:VEVENT
DTSTART;TZID=America/Vancouver:20230806T140000
DTEND;TZID=America/Vancouver:20230806T190000
DTSTAMP:20260425T064153
CREATED:20230721T035429Z
LAST-MODIFIED:20230721T153456Z
UID:10001699-1691330400-1691348400@poniesandpipsqueaks.com
SUMMARY:Venue and Pony Rental
DESCRIPTION:Venue and Pony rental \n\n\n\nIncluded in rental: \n\n\n\n\nspace rental 2pm – 7pm including set up and tear down\n\n\n\n2 10×10 tents\n\n\n\n2 Unicorns and 2 pony handlers from 4pm – 6pm\n\n\n\nUse of props\n\n\n\nFull riding ring for parking
URL:https://poniesandpipsqueaks.com/event/venue-and-pony-rental/
LOCATION:The Briar Patch Farm\, 6044 Oldfield Rd\, Saanich\, BC\, V9E 2J4\, Canada
CATEGORIES:Field Trip
END:VEVENT
BEGIN:VEVENT
DTSTART;TZID=America/Vancouver:20230810T130000
DTEND;TZID=America/Vancouver:20230810T142000
DTSTAMP:20260425T064153
CREATED:20230808T211334Z
LAST-MODIFIED:20230808T211456Z
UID:10001700-1691672400-1691677200@poniesandpipsqueaks.com
SUMMARY:Field Trip - Option 1
DESCRIPTION:First 5 minutes – Review farm safety. \n\n\n\nGroups will be split into smaller groups of 10-15 to rotate through activity stations \n\n\n\nStation 1 – Pony grooming lesson and learn to lead a pony \n\n\n\nStation 2 – Castle playtime and games (supervised by YOUR staff)
URL:https://poniesandpipsqueaks.com/event/field-trip-option-1/
LOCATION:The Briar Patch Farm\, 6044 Oldfield Rd\, Saanich\, BC\, V9E 2J4\, Canada
CATEGORIES:Field Trip
ATTACH;FMTTYPE=image/jpeg:https://poniesandpipsqueaks.com/wp-content/uploads/2022/01/WEB_Krista_Family_142.jpg
END:VEVENT
END:VCALENDAR