BEGIN:VCALENDAR
VERSION:2.0
PRODID:-//Ponies &amp; Pipsqueaks - ECPv6.15.20//NONSGML v1.0//EN
CALSCALE:GREGORIAN
METHOD:PUBLISH
X-ORIGINAL-URL:https://poniesandpipsqueaks.com
X-WR-CALDESC:Events for Ponies &amp; Pipsqueaks
REFRESH-INTERVAL;VALUE=DURATION:PT1H
X-Robots-Tag:noindex
X-PUBLISHED-TTL:PT1H
BEGIN:VTIMEZONE
TZID:America/Vancouver
BEGIN:DAYLIGHT
TZOFFSETFROM:-0800
TZOFFSETTO:-0700
TZNAME:PDT
DTSTART:20220313T100000
END:DAYLIGHT
BEGIN:STANDARD
TZOFFSETFROM:-0700
TZOFFSETTO:-0800
TZNAME:PST
DTSTART:20221106T090000
END:STANDARD
BEGIN:DAYLIGHT
TZOFFSETFROM:-0800
TZOFFSETTO:-0700
TZNAME:PDT
DTSTART:20230312T100000
END:DAYLIGHT
BEGIN:STANDARD
TZOFFSETFROM:-0700
TZOFFSETTO:-0800
TZNAME:PST
DTSTART:20231105T090000
END:STANDARD
BEGIN:DAYLIGHT
TZOFFSETFROM:-0800
TZOFFSETTO:-0700
TZNAME:PDT
DTSTART:20240310T100000
END:DAYLIGHT
BEGIN:STANDARD
TZOFFSETFROM:-0700
TZOFFSETTO:-0800
TZNAME:PST
DTSTART:20241103T090000
END:STANDARD
END:VTIMEZONE
BEGIN:VEVENT
DTSTART;TZID=America/Vancouver:20230716T100000
DTEND;TZID=America/Vancouver:20230716T110000
DTSTAMP:20260425T064136
CREATED:20221214T211315Z
LAST-MODIFIED:20221214T211345Z
UID:10001469-1689501600-1689505200@poniesandpipsqueaks.com
SUMMARY:Weekly Adventure Quests - 6-Week Session 3 - 10am
DESCRIPTION:Costumes\, ponies\, adventure quests and endless possibilities! \n\n\n\nPonies and Pipsqueaks Adventure Quest Programs are a great way to introduce children to ponies. This 6 week program is structured for children 3.5-7\, incorporating imagination play and pony rides. \n\n\n\nTo view the dates in this session\, click the “Event Series” link above.
URL:https://poniesandpipsqueaks.com/event/weekly-adventure-quests-session-3-10am-2023/2023-07-16/
LOCATION:The Briar Patch Farm\, 6044 Oldfield Road\, Saanich\, BC\, Canada
CATEGORIES:Pony Adventure
ATTACH;FMTTYPE=image/jpeg:https://poniesandpipsqueaks.com/wp-content/uploads/2022/01/DSC_8692WEB-1.jpg
END:VEVENT
BEGIN:VEVENT
DTSTART;TZID=America/Vancouver:20230716T113000
DTEND;TZID=America/Vancouver:20230716T123000
DTSTAMP:20260425T064136
CREATED:20221214T211652Z
LAST-MODIFIED:20221214T211724Z
UID:10001475-1689507000-1689510600@poniesandpipsqueaks.com
SUMMARY:Weekly Adventure Quests - 6-Week Session 3 - 11:30am
DESCRIPTION:Costumes\, ponies\, adventure quests and endless possibilities! \n\n\n\nPonies and Pipsqueaks Adventure Quest Programs are a great way to introduce children to ponies. This 6 week program is structured for children 3.5-7\, incorporating imagination play and pony rides. \n\n\n\nTo view the dates in this session\, click the “Event Series” link above.
URL:https://poniesandpipsqueaks.com/event/weekly-adventure-quests-session-3-1130am-2023/2023-07-16/
LOCATION:The Briar Patch Farm\, 6044 Oldfield Road\, Saanich\, BC\, Canada
CATEGORIES:Pony Adventure
ATTACH;FMTTYPE=image/jpeg:https://poniesandpipsqueaks.com/wp-content/uploads/2022/01/DSC_8692WEB-1.jpg
END:VEVENT
BEGIN:VEVENT
DTSTART;TZID=America/Vancouver:20230717T100000
DTEND;TZID=America/Vancouver:20230717T120000
DTSTAMP:20260425T064136
CREATED:20221027T195252Z
LAST-MODIFIED:20240723T223041Z
UID:10000736-1689588000-1689595200@poniesandpipsqueaks.com
SUMMARY:Pony Playtime!
DESCRIPTION:This flexible\, drop-in program is designed to offer farm fun on a toddlers schedule.  Whether your child wants to groom the ponies\, play in the castle\, help with barn chores or simply pet one of the barn cats\, Pony Playtime is tailored to what your child is drawn to on any given day.  Parents and caregivers will also enjoy a chance to take a break from the real world and enjoy a little farm life while getting to know our lovely herd of rescue ponies.  \n\n\n\n*Please note this program does NOT include pony rides. 
URL:https://poniesandpipsqueaks.com/event/pony-playtime-11/
LOCATION:The Briar Patch Farm\, 6044 Oldfield Rd\, Saanich\, BC\, V9E 2J4\, Canada
CATEGORIES:1 Time Experience,Pony Playtime
ATTACH;FMTTYPE=image/jpeg:https://poniesandpipsqueaks.com/wp-content/uploads/2022/01/DSC_8768WEB-1.jpg
END:VEVENT
END:VCALENDAR