BEGIN:VCALENDAR
VERSION:2.0
PRODID:-//Ponies &amp; Pipsqueaks - ECPv6.15.20//NONSGML v1.0//EN
CALSCALE:GREGORIAN
METHOD:PUBLISH
X-ORIGINAL-URL:https://poniesandpipsqueaks.com
X-WR-CALDESC:Events for Ponies &amp; Pipsqueaks
REFRESH-INTERVAL;VALUE=DURATION:PT1H
X-Robots-Tag:noindex
X-PUBLISHED-TTL:PT1H
BEGIN:VTIMEZONE
TZID:America/Vancouver
BEGIN:DAYLIGHT
TZOFFSETFROM:-0800
TZOFFSETTO:-0700
TZNAME:PDT
DTSTART:20220313T100000
END:DAYLIGHT
BEGIN:STANDARD
TZOFFSETFROM:-0700
TZOFFSETTO:-0800
TZNAME:PST
DTSTART:20221106T090000
END:STANDARD
BEGIN:DAYLIGHT
TZOFFSETFROM:-0800
TZOFFSETTO:-0700
TZNAME:PDT
DTSTART:20230312T100000
END:DAYLIGHT
BEGIN:STANDARD
TZOFFSETFROM:-0700
TZOFFSETTO:-0800
TZNAME:PST
DTSTART:20231105T090000
END:STANDARD
BEGIN:DAYLIGHT
TZOFFSETFROM:-0800
TZOFFSETTO:-0700
TZNAME:PDT
DTSTART:20240310T100000
END:DAYLIGHT
BEGIN:STANDARD
TZOFFSETFROM:-0700
TZOFFSETTO:-0800
TZNAME:PST
DTSTART:20241103T090000
END:STANDARD
END:VTIMEZONE
BEGIN:VEVENT
DTSTART;TZID=America/Vancouver:20230709T100000
DTEND;TZID=America/Vancouver:20230709T110000
DTSTAMP:20260425T051008
CREATED:20221213T192803Z
LAST-MODIFIED:20221213T192806Z
UID:10001391-1688896800-1688900400@poniesandpipsqueaks.com
SUMMARY:Weekly Adventure Quests - 6-Week Session 3 - 10am
DESCRIPTION:Costumes\, ponies\, adventure quests and endless possibilities! \n\n\n\nPonies and Pipsqueaks Adventure Quest Programs are a great way to introduce children to ponies. This 6 week program is structured for children 3.5-7\, incorporating imagination play and pony rides. \n\n\n\nTo view the dates in this session\, click the “see all” link above.
URL:https://poniesandpipsqueaks.com/event/weekly-adventure-quests-6-week-session-3-10am/
LOCATION:The Briar Patch Farm\, 6044 Oldfield Road\, Saanich\, BC\, Canada
CATEGORIES:Pony Adventure
ATTACH;FMTTYPE=image/jpeg:https://poniesandpipsqueaks.com/wp-content/uploads/2022/01/DSC_8692WEB-1.jpg
END:VEVENT
BEGIN:VEVENT
DTSTART;TZID=America/Vancouver:20230709T113000
DTEND;TZID=America/Vancouver:20230709T123000
DTSTAMP:20260425T051008
CREATED:20221213T191010Z
LAST-MODIFIED:20221213T191013Z
UID:10001395-1688902200-1688905800@poniesandpipsqueaks.com
SUMMARY:Weekly Adventure Quests - 6-Week Session 3 - 11:30am
DESCRIPTION:Costumes\, ponies\, adventure quests and endless possibilities! \n\n\n\nPonies and Pipsqueaks Adventure Quest Programs are a great way to introduce children to ponies. This 6 week program is structured for children 3.5-7\, incorporating imagination play and pony rides. \n\n\n\nTo view the dates in this session\, click the “see all” link above.
URL:https://poniesandpipsqueaks.com/event/weekly-adventure-quests-6-week-session-3-1130am/
LOCATION:The Briar Patch Farm\, 6044 Oldfield Road\, Saanich\, BC\, Canada
CATEGORIES:Pony Adventure
ATTACH;FMTTYPE=image/jpeg:https://poniesandpipsqueaks.com/wp-content/uploads/2022/01/DSC_8692WEB-1.jpg
END:VEVENT
BEGIN:VEVENT
DTSTART;TZID=America/Vancouver:20230713T123000
DTEND;TZID=America/Vancouver:20230713T143000
DTSTAMP:20260425T051008
CREATED:20230622T174917Z
LAST-MODIFIED:20230714T001436Z
UID:10001690-1689251400-1689258600@poniesandpipsqueaks.com
SUMMARY:Field Trip - Group Package
DESCRIPTION:First 5 minutes – Review farm safety. \n\n\n\nNext 35 minutes – Picnic Lunch \n\n\n\nGroup will be split into 2 groups to rotate through 2 stations \n\n\n\nStation 1 – Farm tour with horse markings scavenger hunt (approx. 40 minutes) \n\n\n\nStation 2 – Pony grooming lesson and leading lesson (approx. 40 minutes)
URL:https://poniesandpipsqueaks.com/event/field-trip-group-package/
LOCATION:The Briar Patch Farm\, 6044 Oldfield Rd\, Saanich\, BC\, V9E 2J4\, Canada
CATEGORIES:Field Trip
ATTACH;FMTTYPE=image/jpeg:https://poniesandpipsqueaks.com/wp-content/uploads/2022/01/WEB_Krista_Family_142.jpg
END:VEVENT
BEGIN:VEVENT
DTSTART;TZID=America/Vancouver:20230713T123000
DTEND;TZID=America/Vancouver:20230713T143000
DTSTAMP:20260425T051008
CREATED:20230714T001856Z
LAST-MODIFIED:20230714T001901Z
UID:10001697-1689251400-1689258600@poniesandpipsqueaks.com
SUMMARY:Field Trip - Option 2
DESCRIPTION:Picnic Time \n\n\n\nFirst 5 minutes – Review farm safety. \n\n\n\nGroups will be split into smaller groups of 10-15 to rotate through activity stations \n\n\n\nStation 1 – Farm tour with horse markings scavenger hunt \n\n\n\nStation 2 – Pony grooming lesson and learn to lead a pony \n\n\n\nPlease note: A waiver must be signed for each child. Please find a download link in your confirmation email to send to parents and guardians.
URL:https://poniesandpipsqueaks.com/event/field-trip-option-2/
LOCATION:The Briar Patch Farm\, 6044 Oldfield Rd\, Saanich\, BC\, V9E 2J4\, Canada
CATEGORIES:Field Trip
ATTACH;FMTTYPE=image/jpeg:https://poniesandpipsqueaks.com/wp-content/uploads/2022/01/WEB_Krista_Family_142.jpg
END:VEVENT
END:VCALENDAR