BEGIN:VCALENDAR
VERSION:2.0
PRODID:-//Ponies &amp; Pipsqueaks - ECPv6.15.20//NONSGML v1.0//EN
CALSCALE:GREGORIAN
METHOD:PUBLISH
X-ORIGINAL-URL:https://poniesandpipsqueaks.com
X-WR-CALDESC:Events for Ponies &amp; Pipsqueaks
REFRESH-INTERVAL;VALUE=DURATION:PT1H
X-Robots-Tag:noindex
X-PUBLISHED-TTL:PT1H
BEGIN:VTIMEZONE
TZID:America/Vancouver
BEGIN:DAYLIGHT
TZOFFSETFROM:-0800
TZOFFSETTO:-0700
TZNAME:PDT
DTSTART:20220313T100000
END:DAYLIGHT
BEGIN:STANDARD
TZOFFSETFROM:-0700
TZOFFSETTO:-0800
TZNAME:PST
DTSTART:20221106T090000
END:STANDARD
BEGIN:DAYLIGHT
TZOFFSETFROM:-0800
TZOFFSETTO:-0700
TZNAME:PDT
DTSTART:20230312T100000
END:DAYLIGHT
BEGIN:STANDARD
TZOFFSETFROM:-0700
TZOFFSETTO:-0800
TZNAME:PST
DTSTART:20231105T090000
END:STANDARD
BEGIN:DAYLIGHT
TZOFFSETFROM:-0800
TZOFFSETTO:-0700
TZNAME:PDT
DTSTART:20240310T100000
END:DAYLIGHT
BEGIN:STANDARD
TZOFFSETFROM:-0700
TZOFFSETTO:-0800
TZNAME:PST
DTSTART:20241103T090000
END:STANDARD
END:VTIMEZONE
BEGIN:VEVENT
DTSTART;TZID=America/Vancouver:20230611T100000
DTEND;TZID=America/Vancouver:20230611T110000
DTSTAMP:20260425T062405
CREATED:20221214T210952Z
LAST-MODIFIED:20221214T211019Z
UID:10001464-1686477600-1686481200@poniesandpipsqueaks.com
SUMMARY:Weekly Adventure Quests - 6-Week Session 2 - 10am
DESCRIPTION:Costumes\, ponies\, adventure quests and endless possibilities! \n\n\n\nPonies and Pipsqueaks Adventure Quest Programs are a great way to introduce children to ponies. This 6 week program is structured for children 3.5-7\, incorporating imagination play and pony rides. \n\n\n\nTo view the dates in this session\, click the “Event Series” link above.
URL:https://poniesandpipsqueaks.com/event/weekly-adventure-quests-session-2-10am-2023/2023-06-11/
LOCATION:The Briar Patch Farm\, 6044 Oldfield Road\, Saanich\, BC\, Canada
CATEGORIES:Pony Adventure
ATTACH;FMTTYPE=image/jpeg:https://poniesandpipsqueaks.com/wp-content/uploads/2022/01/DSC_8692WEB-1.jpg
END:VEVENT
BEGIN:VEVENT
DTSTART;TZID=America/Vancouver:20230611T100000
DTEND;TZID=America/Vancouver:20230611T110000
DTSTAMP:20260425T062405
CREATED:20230206T192815Z
LAST-MODIFIED:20230206T192818Z
UID:10001583-1686477600-1686481200@poniesandpipsqueaks.com
SUMMARY:Adventure Quest - 1 Time Experience - Cowboys & Cowgirls - 10:00am
DESCRIPTION:Costumes\, ponies\, adventure quests and endless possibilities! \n\n\n\nPonies and Pipsqueaks Adventure Quest Programs are a great way to introduce children to ponies. We are now offering this amazing experience in a 1-time experience for those who can’t join us for our 6-week sessions! This program is structured for children 3.5-7\, incorporating imagination play and pony rides. \n\n\n\nJune 11th is Cowboys and Cowgirls!  The first skill every cowboy or cowgirl must learn is how to rope a cow! After a little practice we will grab our ponies and head out on the range to round up the cattle!
URL:https://poniesandpipsqueaks.com/event/adventure-quest-1-time-experience-cowboys-cowgirls-1000am-3/
LOCATION:The Briar Patch Farm\, 6044 Oldfield Rd\, Saanich\, BC\, V9E 2J4\, Canada
ATTACH;FMTTYPE=image/jpeg:https://poniesandpipsqueaks.com/wp-content/uploads/2022/12/AdventureQuests_2022_20-scaled-e1670362411232.jpg
END:VEVENT
BEGIN:VEVENT
DTSTART;TZID=America/Vancouver:20230611T113000
DTEND;TZID=America/Vancouver:20230611T123000
DTSTAMP:20260425T062405
CREATED:20221214T184922Z
LAST-MODIFIED:20221214T191321Z
UID:10001458-1686483000-1686486600@poniesandpipsqueaks.com
SUMMARY:Weekly Adventure Quests - 6-Week Session 2 - 11:30am
DESCRIPTION:Costumes\, ponies\, adventure quests and endless possibilities! \n\n\n\nPonies and Pipsqueaks Adventure Quest Programs are a great way to introduce children to ponies. This 6 week program is structured for children 3.5-7\, incorporating imagination play and pony rides. \n\n\n\nTo view the dates in this session\, click the “Event Series” link above.
URL:https://poniesandpipsqueaks.com/event/weekly-adventure-quests-6-week-session-2-1130am-2/2023-06-11/
LOCATION:The Briar Patch Farm\, 6044 Oldfield Road\, Saanich\, BC\, Canada
CATEGORIES:Pony Adventure
ATTACH;FMTTYPE=image/jpeg:https://poniesandpipsqueaks.com/wp-content/uploads/2022/01/DSC_8692WEB-1.jpg
END:VEVENT
BEGIN:VEVENT
DTSTART;TZID=America/Vancouver:20230611T113000
DTEND;TZID=America/Vancouver:20230611T123000
DTSTAMP:20260425T062405
CREATED:20230206T191558Z
LAST-MODIFIED:20230206T191600Z
UID:10001586-1686483000-1686486600@poniesandpipsqueaks.com
SUMMARY:Adventure Quest - 1 Time Experience - Cowboys & Cowgirls - 11:30am
DESCRIPTION:Costumes\, ponies\, adventure quests and endless possibilities! \n\n\n\nPonies and Pipsqueaks Adventure Quest Programs are a great way to introduce children to ponies. We are now offering this amazing experience in a 1-time experience for those who can’t join us for our 6-week sessions! This program is structured for children 3.5-7\, incorporating imagination play and pony rides. \n\n\n\nJune 11th is Cowboys and Cowgirls!  The first skill every cowboy or cowgirl must learn is how to rope a cow! After a little practice we will grab our ponies and head out on the range to round up the cattle!
URL:https://poniesandpipsqueaks.com/event/adventure-quest-1-time-experience-cowboys-cowgirls-1130am-3/
LOCATION:The Briar Patch Farm\, 6044 Oldfield Rd\, Saanich\, BC\, V9E 2J4\, Canada
ATTACH;FMTTYPE=image/jpeg:https://poniesandpipsqueaks.com/wp-content/uploads/2022/12/AdventureQuests_2022_20-scaled-e1670362411232.jpg
END:VEVENT
BEGIN:VEVENT
DTSTART;TZID=America/Vancouver:20230615T103000
DTEND;TZID=America/Vancouver:20230615T113000
DTSTAMP:20260425T062405
CREATED:20230517T231653Z
LAST-MODIFIED:20240723T223135Z
UID:10001681-1686825000-1686828600@poniesandpipsqueaks.com
SUMMARY:Group Pony Therapy
DESCRIPTION:Pony therapy has been shown to help lower stress levels\, promote serotonin production\, cut anxiety\, and reduce high blood pressure. Research has shown that simply petting an animal lowers the stress hormone cortisol \, while the social interaction between people and the ponies actually increases levels of the feel-good hormone oxytocin (the same hormone that bonds mothers to babies).
URL:https://poniesandpipsqueaks.com/event/group-pony-therapy-5/
LOCATION:The Briar Patch Farm\, 6044 Oldfield Rd\, Saanich\, BC\, V9E 2J4\, Canada
CATEGORIES:Adult Classes,Pony Therapy
ATTACH;FMTTYPE=image/webp:https://poniesandpipsqueaks.com/wp-content/uploads/2022/10/Elderly-with-pony-e1667241253108.webp
END:VEVENT
END:VCALENDAR