BEGIN:VCALENDAR
VERSION:2.0
PRODID:-//Ponies &amp; Pipsqueaks - ECPv6.15.20//NONSGML v1.0//EN
CALSCALE:GREGORIAN
METHOD:PUBLISH
X-WR-CALNAME:Ponies &amp; Pipsqueaks
X-ORIGINAL-URL:https://poniesandpipsqueaks.com
X-WR-CALDESC:Events for Ponies &amp; Pipsqueaks
REFRESH-INTERVAL;VALUE=DURATION:PT1H
X-Robots-Tag:noindex
X-PUBLISHED-TTL:PT1H
BEGIN:VTIMEZONE
TZID:America/Vancouver
BEGIN:DAYLIGHT
TZOFFSETFROM:-0800
TZOFFSETTO:-0700
TZNAME:PDT
DTSTART:20220313T100000
END:DAYLIGHT
BEGIN:STANDARD
TZOFFSETFROM:-0700
TZOFFSETTO:-0800
TZNAME:PST
DTSTART:20221106T090000
END:STANDARD
BEGIN:DAYLIGHT
TZOFFSETFROM:-0800
TZOFFSETTO:-0700
TZNAME:PDT
DTSTART:20230312T100000
END:DAYLIGHT
BEGIN:STANDARD
TZOFFSETFROM:-0700
TZOFFSETTO:-0800
TZNAME:PST
DTSTART:20231105T090000
END:STANDARD
BEGIN:DAYLIGHT
TZOFFSETFROM:-0800
TZOFFSETTO:-0700
TZNAME:PDT
DTSTART:20240310T100000
END:DAYLIGHT
BEGIN:STANDARD
TZOFFSETFROM:-0700
TZOFFSETTO:-0800
TZNAME:PST
DTSTART:20241103T090000
END:STANDARD
END:VTIMEZONE
BEGIN:VEVENT
DTSTART;TZID=America/Vancouver:20230604T100000
DTEND;TZID=America/Vancouver:20230604T110000
DTSTAMP:20260425T050831
CREATED:20221214T210952Z
LAST-MODIFIED:20221214T211019Z
UID:10001463-1685872800-1685876400@poniesandpipsqueaks.com
SUMMARY:Weekly Adventure Quests - 6-Week Session 2 - 10am
DESCRIPTION:Costumes\, ponies\, adventure quests and endless possibilities! \n\n\n\nPonies and Pipsqueaks Adventure Quest Programs are a great way to introduce children to ponies. This 6 week program is structured for children 3.5-7\, incorporating imagination play and pony rides. \n\n\n\nTo view the dates in this session\, click the “Event Series” link above.
URL:https://poniesandpipsqueaks.com/event/weekly-adventure-quests-session-2-10am-2023/2023-06-04/
LOCATION:The Briar Patch Farm\, 6044 Oldfield Road\, Saanich\, BC\, Canada
CATEGORIES:Pony Adventure
ATTACH;FMTTYPE=image/jpeg:https://poniesandpipsqueaks.com/wp-content/uploads/2022/01/DSC_8692WEB-1.jpg
END:VEVENT
BEGIN:VEVENT
DTSTART;TZID=America/Vancouver:20230604T100000
DTEND;TZID=America/Vancouver:20230604T110000
DTSTAMP:20260425T050831
CREATED:20230104T211503Z
LAST-MODIFIED:20230209T213527Z
UID:10001553-1685872800-1685876400@poniesandpipsqueaks.com
SUMMARY:Adventure Quest - 1 Time Experience - Vikings - 10:00am
DESCRIPTION:Costumes\, ponies\, adventure quests and endless possibilities! \n\n\n\nPonies and Pipsqueaks Adventure Quest Programs are a great way to introduce children to ponies. We are now offering this amazing experience in a 1-time experience for those who can’t join us for our 6-week sessions! This program is structured for children 3.5-7\, incorporating imagination play and pony rides. \n\n\n\nJune 4 is Viking Day!  Baby dragons are lost in the woods! Only the brave Vikings will be able to return them safely to their nests!
URL:https://poniesandpipsqueaks.com/event/adventure-quest-1-time-experience-vikings-1000am-2/
LOCATION:The Briar Patch Farm\, 6044 Oldfield Rd\, Saanich\, BC\, V9E 2J4\, Canada
ATTACH;FMTTYPE=image/jpeg:https://poniesandpipsqueaks.com/wp-content/uploads/2022/02/Feb19SneakPeek_29-scaled-e1645593940943.jpg
END:VEVENT
BEGIN:VEVENT
DTSTART;TZID=America/Vancouver:20230604T113000
DTEND;TZID=America/Vancouver:20230604T123000
DTSTAMP:20260425T050831
CREATED:20221214T184922Z
LAST-MODIFIED:20221214T191321Z
UID:10001457-1685878200-1685881800@poniesandpipsqueaks.com
SUMMARY:Weekly Adventure Quests - 6-Week Session 2 - 11:30am
DESCRIPTION:Costumes\, ponies\, adventure quests and endless possibilities! \n\n\n\nPonies and Pipsqueaks Adventure Quest Programs are a great way to introduce children to ponies. This 6 week program is structured for children 3.5-7\, incorporating imagination play and pony rides. \n\n\n\nTo view the dates in this session\, click the “Event Series” link above.
URL:https://poniesandpipsqueaks.com/event/weekly-adventure-quests-6-week-session-2-1130am-2/2023-06-04/
LOCATION:The Briar Patch Farm\, 6044 Oldfield Road\, Saanich\, BC\, Canada
CATEGORIES:Pony Adventure
ATTACH;FMTTYPE=image/jpeg:https://poniesandpipsqueaks.com/wp-content/uploads/2022/01/DSC_8692WEB-1.jpg
END:VEVENT
BEGIN:VEVENT
DTSTART;TZID=America/Vancouver:20230604T113000
DTEND;TZID=America/Vancouver:20230604T123000
DTSTAMP:20260425T050831
CREATED:20230104T211728Z
LAST-MODIFIED:20230209T213620Z
UID:10001552-1685878200-1685881800@poniesandpipsqueaks.com
SUMMARY:Adventure Quest - 1 Time Experience - Vikings - 11:30am
DESCRIPTION:Costumes\, ponies\, adventure quests and endless possibilities! \n\n\n\nPonies and Pipsqueaks Adventure Quest Programs are a great way to introduce children to ponies. We are now offering this amazing experience in a 1-time experience for those who can’t join us for our 6-week sessions! This program is structured for children 3.5-7\, incorporating imagination play and pony rides. \n\n\n\nJune 4 is Viking Day!  Baby dragons are lost in the woods! Only the brave Vikings will be able to return them safely to their nests!
URL:https://poniesandpipsqueaks.com/event/adventure-quest-1-time-experience-vikings-1130am-2/
LOCATION:The Briar Patch Farm\, 6044 Oldfield Rd\, Saanich\, BC\, V9E 2J4\, Canada
ATTACH;FMTTYPE=image/jpeg:https://poniesandpipsqueaks.com/wp-content/uploads/2022/02/Feb19SneakPeek_29-scaled-e1645593940943.jpg
END:VEVENT
END:VCALENDAR