BEGIN:VCALENDAR
VERSION:2.0
PRODID:-//Ponies &amp; Pipsqueaks - ECPv6.15.20//NONSGML v1.0//EN
CALSCALE:GREGORIAN
METHOD:PUBLISH
X-ORIGINAL-URL:https://poniesandpipsqueaks.com
X-WR-CALDESC:Events for Ponies &amp; Pipsqueaks
REFRESH-INTERVAL;VALUE=DURATION:PT1H
X-Robots-Tag:noindex
X-PUBLISHED-TTL:PT1H
BEGIN:VTIMEZONE
TZID:America/Vancouver
BEGIN:DAYLIGHT
TZOFFSETFROM:-0800
TZOFFSETTO:-0700
TZNAME:PDT
DTSTART:20220313T100000
END:DAYLIGHT
BEGIN:STANDARD
TZOFFSETFROM:-0700
TZOFFSETTO:-0800
TZNAME:PST
DTSTART:20221106T090000
END:STANDARD
BEGIN:DAYLIGHT
TZOFFSETFROM:-0800
TZOFFSETTO:-0700
TZNAME:PDT
DTSTART:20230312T100000
END:DAYLIGHT
BEGIN:STANDARD
TZOFFSETFROM:-0700
TZOFFSETTO:-0800
TZNAME:PST
DTSTART:20231105T090000
END:STANDARD
BEGIN:DAYLIGHT
TZOFFSETFROM:-0800
TZOFFSETTO:-0700
TZNAME:PDT
DTSTART:20240310T100000
END:DAYLIGHT
BEGIN:STANDARD
TZOFFSETFROM:-0700
TZOFFSETTO:-0800
TZNAME:PST
DTSTART:20241103T090000
END:STANDARD
END:VTIMEZONE
BEGIN:VEVENT
DTSTART;TZID=America/Vancouver:20230423T100000
DTEND;TZID=America/Vancouver:20230423T110000
DTSTAMP:20260425T090026
CREATED:20221214T184038Z
LAST-MODIFIED:20221214T190617Z
UID:10001445-1682244000-1682247600@poniesandpipsqueaks.com
SUMMARY:Weekly Adventure Quests - 6-Week Session 1 - 10am
DESCRIPTION:Costumes\, ponies\, adventure quests and endless possibilities! \n\n\n\nPonies and Pipsqueaks Adventure Quest Programs are a great way to introduce children to ponies. This 6 week program is structured for children 3.5-7\, incorporating imagination play and pony rides. \n\n\n\nTo view the dates in this session\, click the “Event Series” link above.
URL:https://poniesandpipsqueaks.com/event/weekly-adventure-quests-session-1-10am-2023-3/2023-04-23/
LOCATION:The Briar Patch Farm\, 6044 Oldfield Road\, Saanich\, BC\, Canada
CATEGORIES:Pony Adventure
ATTACH;FMTTYPE=image/jpeg:https://poniesandpipsqueaks.com/wp-content/uploads/2022/01/DSC_8692WEB-1.jpg
END:VEVENT
BEGIN:VEVENT
DTSTART;TZID=America/Vancouver:20230423T100000
DTEND;TZID=America/Vancouver:20230423T110000
DTSTAMP:20260425T090026
CREATED:20230104T210703Z
LAST-MODIFIED:20230209T213251Z
UID:10001539-1682244000-1682247600@poniesandpipsqueaks.com
SUMMARY:Adventure Quest - 1 Time Experience - Vikings - 10:00am
DESCRIPTION:Costumes\, ponies\, adventure quests and endless possibilities! \n\n\n\nPonies and Pipsqueaks Adventure Quest Programs are a great way to introduce children to ponies. We are now offering this amazing experience in a 1-time experience for those who can’t join us for our 6-week sessions! This program is structured for children 3.5-7\, incorporating imagination play and pony rides. \n\n\n\nApril 23 is Viking Day!  Baby dragons are lost in the woods! Only the brave Vikings will be able to return them safely to their nests!
URL:https://poniesandpipsqueaks.com/event/adventure-quest-1-time-experience-vikings-1000am/
LOCATION:The Briar Patch Farm\, 6044 Oldfield Rd\, Saanich\, BC\, V9E 2J4\, Canada
ATTACH;FMTTYPE=image/jpeg:https://poniesandpipsqueaks.com/wp-content/uploads/2022/02/Feb19SneakPeek_29-scaled-e1645593940943.jpg
END:VEVENT
BEGIN:VEVENT
DTSTART;TZID=America/Vancouver:20230423T113000
DTEND;TZID=America/Vancouver:20230423T123000
DTSTAMP:20260425T090026
CREATED:20221214T184518Z
LAST-MODIFIED:20221214T190521Z
UID:10001451-1682249400-1682253000@poniesandpipsqueaks.com
SUMMARY:Weekly Adventure Quests - 6-Week Session 1 - 11:30am
DESCRIPTION:Costumes\, ponies\, adventure quests and endless possibilities! \n\n\n\nPonies and Pipsqueaks Adventure Quest Programs are a great way to introduce children to ponies. This 6 week program is structured for children 3.5-7\, incorporating imagination play and pony rides. \n\n\n\nTo view the dates in this session\, click the “Event Series” link above.
URL:https://poniesandpipsqueaks.com/event/weekly-adventure-quests-session-1-1130am-2023/2023-04-23/
LOCATION:The Briar Patch Farm\, 6044 Oldfield Road\, Saanich\, BC\, Canada
CATEGORIES:Pony Adventure
ATTACH;FMTTYPE=image/jpeg:https://poniesandpipsqueaks.com/wp-content/uploads/2022/01/DSC_8692WEB-1.jpg
END:VEVENT
BEGIN:VEVENT
DTSTART;TZID=America/Vancouver:20230423T113000
DTEND;TZID=America/Vancouver:20230423T123000
DTSTAMP:20260425T090026
CREATED:20230104T211008Z
LAST-MODIFIED:20230209T213351Z
UID:10001538-1682249400-1682253000@poniesandpipsqueaks.com
SUMMARY:Adventure Quest - 1 Time Experience - Vikings - 11:30am
DESCRIPTION:Costumes\, ponies\, adventure quests and endless possibilities! \n\n\n\nPonies and Pipsqueaks Adventure Quest Programs are a great way to introduce children to ponies. We are now offering this amazing experience in a 1-time experience for those who can’t join us for our 6-week sessions! This program is structured for children 3.5-7\, incorporating imagination play and pony rides. \n\n\n\nApril 23 is Viking Day!  Baby dragons are lost in the woods! Only the brave Vikings will be able to return them safely to their nests!
URL:https://poniesandpipsqueaks.com/event/adventure-quest-1-time-experience-vikings-1130am/
LOCATION:The Briar Patch Farm\, 6044 Oldfield Rd\, Saanich\, BC\, V9E 2J4\, Canada
ATTACH;FMTTYPE=image/jpeg:https://poniesandpipsqueaks.com/wp-content/uploads/2022/02/Feb19SneakPeek_29-scaled-e1645593940943.jpg
END:VEVENT
BEGIN:VEVENT
DTSTART;TZID=America/Vancouver:20230423T150000
DTEND;TZID=America/Vancouver:20230423T160000
DTSTAMP:20260425T090026
CREATED:20220409T072051Z
LAST-MODIFIED:20240723T222313Z
UID:10000531-1682262000-1682265600@poniesandpipsqueaks.com
SUMMARY:Part Time Pony - Sundays
DESCRIPTION:Part Time Pony is the perfect fit for children 4 and up that have a true love for horses.  Throughout this program children will learn the responsibility and care ponies require while they develop a bond with some of our wonderful pony herd.
URL:https://poniesandpipsqueaks.com/event/part-time-pony-sundays/2023-04-23/
LOCATION:The Briar Patch Farm\, 6044 Oldfield Rd\, Saanich\, BC\, V9E 2J4\, Canada
CATEGORIES:Part Time Pony,Riding Lessons
ATTACH;FMTTYPE=image/jpeg:https://poniesandpipsqueaks.com/wp-content/uploads/2022/01/Krista_Family_147-scaled-e1643158810704.jpg
END:VEVENT
BEGIN:VEVENT
DTSTART;TZID=America/Vancouver:20230423T160000
DTEND;TZID=America/Vancouver:20230423T171500
DTSTAMP:20260425T090026
CREATED:20220409T074714Z
LAST-MODIFIED:20240723T220531Z
UID:10000372-1682265600-1682270100@poniesandpipsqueaks.com
SUMMARY:Junior Pony Trainer - Sundays
DESCRIPTION:Junior Pony Trainer is a class designed for older kids with or without prior horse or pony experience.  Each child will be paired with one of our unique rescue ponies so they will continue to grow the bond and trust between them.  This program will include lessons in patience\, perseverance\, compassion and understanding as your child learns what motivates each different pony and experience the many rewards of working with rescue animals.  Available on Sundays\, Mondays and Thursdays.
URL:https://poniesandpipsqueaks.com/event/junior-pony-trainer-sundays/2023-04-23/
LOCATION:The Briar Patch Farm\, 6044 Oldfield Rd\, Saanich\, BC\, V9E 2J4\, Canada
CATEGORIES:Junior Pony Trainer,Tween Programs,Weekly Programs
ATTACH;FMTTYPE=image/jpeg:https://poniesandpipsqueaks.com/wp-content/uploads/2022/01/Krista_Family_142-scaled-e1643158785750.jpg
END:VEVENT
BEGIN:VEVENT
DTSTART;TZID=America/Vancouver:20230424T090000
DTEND;TZID=America/Vancouver:20230424T150000
DTSTAMP:20260425T090026
CREATED:20220825T041343Z
LAST-MODIFIED:20221207T003628Z
UID:10000732-1682326800-1682348400@poniesandpipsqueaks.com
SUMMARY:1 Day Camp
DESCRIPTION:1 Day Camp is great way to spend a day off of school! This fun filled day will be the perfect combination of pony time\, learning and creating!  \n\n\n\nPlease note\, there is NO riding in this program. \n\n\n\nAfter Camp Care available from 3pm – 5pm
URL:https://poniesandpipsqueaks.com/event/pro-d-day-camp-9/
LOCATION:The Briar Patch Farm\, 6044 Oldfield Rd\, Saanich\, BC\, V9E 2J4\, Canada
ATTACH;FMTTYPE=image/jpeg:https://poniesandpipsqueaks.com/wp-content/uploads/2022/01/WEB_Krista_Family_142.jpg
END:VEVENT
BEGIN:VEVENT
DTSTART;TZID=America/Vancouver:20230424T160000
DTEND;TZID=America/Vancouver:20230424T170000
DTSTAMP:20260425T090026
CREATED:20220409T071419Z
LAST-MODIFIED:20240723T222313Z
UID:10000477-1682352000-1682355600@poniesandpipsqueaks.com
SUMMARY:Part Time Pony - Mondays
DESCRIPTION:Part Time Pony is the perfect fit for children 4 and up that have a true love for horses.  Throughout this program children will learn the responsibility and care ponies require while they develop a bond with some of our wonderful pony herd.
URL:https://poniesandpipsqueaks.com/event/part-time-pony-mondays/2023-04-24/
LOCATION:The Briar Patch Farm\, 6044 Oldfield Rd\, Saanich\, BC\, V9E 2J4\, Canada
CATEGORIES:Part Time Pony,Riding Lessons
ATTACH;FMTTYPE=image/jpeg:https://poniesandpipsqueaks.com/wp-content/uploads/2022/01/Krista_Family_147-scaled-e1643158810704.jpg
END:VEVENT
BEGIN:VEVENT
DTSTART;TZID=America/Vancouver:20230424T170000
DTEND;TZID=America/Vancouver:20230424T181500
DTSTAMP:20260425T090026
CREATED:20220409T073002Z
LAST-MODIFIED:20240723T220531Z
UID:10000583-1682355600-1682360100@poniesandpipsqueaks.com
SUMMARY:Junior Pony Trainer - Mondays
DESCRIPTION:Junior Pony Trainer is a class designed for older kids with or without prior horse or pony experience.  Each child will be paired with one of our unique rescue ponies so they will continue to grow the bond and trust between them.  This program will include lessons in patience\, perseverance\, compassion and understanding as your child learns what motivates each different pony and experience the many rewards of working with rescue animals.  Available on Sundays\, Mondays and Fridays.
URL:https://poniesandpipsqueaks.com/event/junior-pony-trainer-mondays/2023-04-24/
LOCATION:The Briar Patch Farm\, 6044 Oldfield Rd\, Saanich\, BC\, V9E 2J4\, Canada
CATEGORIES:Junior Pony Trainer,Tween Programs,Weekly Programs
ATTACH;FMTTYPE=image/jpeg:https://poniesandpipsqueaks.com/wp-content/uploads/2022/01/Krista_Family_142-scaled-e1643158785750.jpg
END:VEVENT
BEGIN:VEVENT
DTSTART;TZID=America/Vancouver:20230428T160000
DTEND;TZID=America/Vancouver:20230428T170000
DTSTAMP:20260425T090026
CREATED:20220409T064944Z
LAST-MODIFIED:20240723T222313Z
UID:10000427-1682697600-1682701200@poniesandpipsqueaks.com
SUMMARY:Part Time Pony - Fridays
DESCRIPTION:Part Time Pony is the perfect fit for children 4 and up that have a true love for horses.  Throughout this program children will learn the responsibility and care ponies require while they develop a bond with some of our wonderful pony herd.
URL:https://poniesandpipsqueaks.com/event/part-time-pony-fridays/2023-04-28/
LOCATION:The Briar Patch Farm\, 6044 Oldfield Rd\, Saanich\, BC\, V9E 2J4\, Canada
CATEGORIES:Part Time Pony,Riding Lessons
ATTACH;FMTTYPE=image/jpeg:https://poniesandpipsqueaks.com/wp-content/uploads/2022/01/Krista_Family_147-scaled-e1643158810704.jpg
END:VEVENT
BEGIN:VEVENT
DTSTART;TZID=America/Vancouver:20230428T170000
DTEND;TZID=America/Vancouver:20230428T181500
DTSTAMP:20260425T090026
CREATED:20220409T075508Z
LAST-MODIFIED:20240723T220531Z
UID:10000637-1682701200-1682705700@poniesandpipsqueaks.com
SUMMARY:Junior Pony Trainer - Fridays
DESCRIPTION:Junior Pony Trainer is a class designed for older kids with or without prior horse or pony experience.  Each child will be paired with one of our unique rescue ponies so they will continue to grow the bond and trust between them.  This program will include lessons in patience\, perseverance\, compassion and understanding as your child learns what motivates each different pony and experience the many rewards of working with rescue animals.  Available on Sundays\, Mondays and Fridays.
URL:https://poniesandpipsqueaks.com/event/junior-pony-trainer-thursdays/2023-04-28/
LOCATION:The Briar Patch Farm\, 6044 Oldfield Rd\, Saanich\, BC\, V9E 2J4\, Canada
CATEGORIES:Junior Pony Trainer,Tween Programs,Weekly Programs
ATTACH;FMTTYPE=image/jpeg:https://poniesandpipsqueaks.com/wp-content/uploads/2022/01/Krista_Family_142-scaled-e1643158785750.jpg
END:VEVENT
END:VCALENDAR