BEGIN:VCALENDAR
VERSION:2.0
PRODID:-//Ponies &amp; Pipsqueaks - ECPv6.15.20//NONSGML v1.0//EN
CALSCALE:GREGORIAN
METHOD:PUBLISH
X-WR-CALNAME:Ponies &amp; Pipsqueaks
X-ORIGINAL-URL:https://poniesandpipsqueaks.com
X-WR-CALDESC:Events for Ponies &amp; Pipsqueaks
REFRESH-INTERVAL;VALUE=DURATION:PT1H
X-Robots-Tag:noindex
X-PUBLISHED-TTL:PT1H
BEGIN:VTIMEZONE
TZID:America/Vancouver
BEGIN:DAYLIGHT
TZOFFSETFROM:-0800
TZOFFSETTO:-0700
TZNAME:PDT
DTSTART:20240310T100000
END:DAYLIGHT
BEGIN:STANDARD
TZOFFSETFROM:-0700
TZOFFSETTO:-0800
TZNAME:PST
DTSTART:20241103T090000
END:STANDARD
BEGIN:DAYLIGHT
TZOFFSETFROM:-0800
TZOFFSETTO:-0700
TZNAME:PDT
DTSTART:20250309T100000
END:DAYLIGHT
BEGIN:STANDARD
TZOFFSETFROM:-0700
TZOFFSETTO:-0800
TZNAME:PST
DTSTART:20251102T090000
END:STANDARD
BEGIN:DAYLIGHT
TZOFFSETFROM:-0800
TZOFFSETTO:-0700
TZNAME:PDT
DTSTART:20260308T100000
END:DAYLIGHT
BEGIN:STANDARD
TZOFFSETFROM:-0700
TZOFFSETTO:-0800
TZNAME:PST
DTSTART:20261101T090000
END:STANDARD
END:VTIMEZONE
BEGIN:VEVENT
DTSTART;TZID=America/Vancouver:20251109T160000
DTEND;TZID=America/Vancouver:20251109T180000
DTSTAMP:20260420T220746
CREATED:20250307T015044Z
LAST-MODIFIED:20250307T015046Z
UID:10009804-1762704000-1762711200@poniesandpipsqueaks.com
SUMMARY:Pony Fit
DESCRIPTION:Are you an animal lover that is looking to get more steps in? Great news! Our ponies are people lovers that also need to get their steps in! \n\n\n\nThis laid back program is an opportunity to get to know our rescue herd\, understand their individual care needs\, help them stay in shape and mentally stimulated! \n\n\n\nDates:\n\n\n\nMondays 10am – 12pm \n\n\n\nSample of Activities: \n\n\n\n\nRehabs/physios\n\n\n\nExercise (walks\, on property and off)\n\n\n\nGrooming/ bathing\n\n\n\nHorsemanship training using a variety of techniques\n\n\n\nDeveloping an understanding for pony behaviour through hands on experience\n\n\n\nTrust building exercises\n\n\n\nClicker and trick training
URL:https://poniesandpipsqueaks.com/event/pony-fit/2025-11-09/
LOCATION:The Briar Patch Farm\, 6044 Oldfield Rd\, Saanich\, BC\, V9E 2J4\, Canada
CATEGORIES:Adult Classes,Pony Fit
ATTACH;FMTTYPE=image/jpeg:https://poniesandpipsqueaks.com/wp-content/uploads/2024/05/Pony-Walking-3-e1715146520906.jpg
END:VEVENT
END:VCALENDAR