BEGIN:VCALENDAR
VERSION:2.0
PRODID:-//Ponies &amp; Pipsqueaks - ECPv6.15.20//NONSGML v1.0//EN
CALSCALE:GREGORIAN
METHOD:PUBLISH
X-ORIGINAL-URL:https://poniesandpipsqueaks.com
X-WR-CALDESC:Events for Ponies &amp; Pipsqueaks
REFRESH-INTERVAL;VALUE=DURATION:PT1H
X-Robots-Tag:noindex
X-PUBLISHED-TTL:PT1H
BEGIN:VTIMEZONE
TZID:America/Vancouver
BEGIN:DAYLIGHT
TZOFFSETFROM:-0800
TZOFFSETTO:-0700
TZNAME:PDT
DTSTART:20240310T100000
END:DAYLIGHT
BEGIN:STANDARD
TZOFFSETFROM:-0700
TZOFFSETTO:-0800
TZNAME:PST
DTSTART:20241103T090000
END:STANDARD
BEGIN:DAYLIGHT
TZOFFSETFROM:-0800
TZOFFSETTO:-0700
TZNAME:PDT
DTSTART:20250309T100000
END:DAYLIGHT
BEGIN:STANDARD
TZOFFSETFROM:-0700
TZOFFSETTO:-0800
TZNAME:PST
DTSTART:20251102T090000
END:STANDARD
BEGIN:DAYLIGHT
TZOFFSETFROM:-0800
TZOFFSETTO:-0700
TZNAME:PDT
DTSTART:20260308T100000
END:DAYLIGHT
BEGIN:STANDARD
TZOFFSETFROM:-0700
TZOFFSETTO:-0800
TZNAME:PST
DTSTART:20261101T090000
END:STANDARD
END:VTIMEZONE
BEGIN:VEVENT
DTSTART;TZID=America/Vancouver:20250907T130000
DTEND;TZID=America/Vancouver:20250907T140000
DTSTAMP:20260420T235632
CREATED:20250304T052532Z
LAST-MODIFIED:20250305T032012Z
UID:10009717-1757250000-1757253600@poniesandpipsqueaks.com
SUMMARY:Pony Adventure Quests - 6-Week Session 3
DESCRIPTION:Start Date: \n\n\n\n\n\n\n\nSession 1 – September 7\, 14\, 21\, 28\, October 5\, 12 \n\n\n\nCostumes\, ponies\, adventure quests and endless possibilities! \n\n\n\nPonies and Pipsqueaks Adventure Quest Programs are a great way to introduce children to ponies. This 6 week program is structured for children ages 3.5 +\, incorporating imagination play and pony rides. \n\n\n\nCostumes provided.
URL:https://poniesandpipsqueaks.com/event/pony-adventure-quests-6-week-session-3/
LOCATION:The Briar Patch Farm\, 6044 Oldfield Rd\, Saanich\, BC\, V9E 2J4\, Canada
CATEGORIES:Pony Adventure,Weekly Programs
ATTACH;FMTTYPE=image/jpeg:https://poniesandpipsqueaks.com/wp-content/uploads/2022/01/DSC_8692WEB-1.jpg
END:VEVENT
BEGIN:VEVENT
DTSTART;TZID=America/Vancouver:20250907T130000
DTEND;TZID=America/Vancouver:20250907T140000
DTSTAMP:20260420T235632
CREATED:20250304T054345Z
LAST-MODIFIED:20250305T031604Z
UID:10009722-1757250000-1757253600@poniesandpipsqueaks.com
SUMMARY:Pony Adventure - 1 Time Experience - Vikings - 1:00pm
DESCRIPTION:Costumes\, ponies\, adventure quests and endless possibilities! \n\n\n\nPonies and Pipsqueaks Adventure Quest Programs are a great way to introduce children to ponies. We are now offering this amazing experience in a 1-time experience for those who can’t join us for our 6-week sessions! This program is structured for children 3.5-7\, incorporating imagination play and pony rides. \n\n\n\nBaby dragons are lost in the woods! Only the brave Vikings will be able to return them safely to their nests!
URL:https://poniesandpipsqueaks.com/event/pony-adventure-1-time-experience-vikings-100pm-3/
LOCATION:The Briar Patch Farm\, 6044 Oldfield Rd\, Saanich\, BC\, V9E 2J4\, Canada
CATEGORIES:1 Time Experience,Pony Adventure
ATTACH;FMTTYPE=image/jpeg:https://poniesandpipsqueaks.com/wp-content/uploads/2022/12/AdventureQuests_2022_110-scaled-e1670362521120.jpg
END:VEVENT
END:VCALENDAR