BEGIN:VCALENDAR
VERSION:2.0
PRODID:-//Ponies &amp; Pipsqueaks - ECPv6.15.20//NONSGML v1.0//EN
CALSCALE:GREGORIAN
METHOD:PUBLISH
X-WR-CALNAME:Ponies &amp; Pipsqueaks
X-ORIGINAL-URL:https://poniesandpipsqueaks.com
X-WR-CALDESC:Events for Ponies &amp; Pipsqueaks
REFRESH-INTERVAL;VALUE=DURATION:PT1H
X-Robots-Tag:noindex
X-PUBLISHED-TTL:PT1H
BEGIN:VTIMEZONE
TZID:America/Vancouver
BEGIN:DAYLIGHT
TZOFFSETFROM:-0800
TZOFFSETTO:-0700
TZNAME:PDT
DTSTART:20230312T100000
END:DAYLIGHT
BEGIN:STANDARD
TZOFFSETFROM:-0700
TZOFFSETTO:-0800
TZNAME:PST
DTSTART:20231105T090000
END:STANDARD
BEGIN:DAYLIGHT
TZOFFSETFROM:-0800
TZOFFSETTO:-0700
TZNAME:PDT
DTSTART:20240310T100000
END:DAYLIGHT
BEGIN:STANDARD
TZOFFSETFROM:-0700
TZOFFSETTO:-0800
TZNAME:PST
DTSTART:20241103T090000
END:STANDARD
BEGIN:DAYLIGHT
TZOFFSETFROM:-0800
TZOFFSETTO:-0700
TZNAME:PDT
DTSTART:20250309T100000
END:DAYLIGHT
BEGIN:STANDARD
TZOFFSETFROM:-0700
TZOFFSETTO:-0800
TZNAME:PST
DTSTART:20251102T090000
END:STANDARD
END:VTIMEZONE
BEGIN:VEVENT
DTSTART;TZID=America/Vancouver:20240519T153000
DTEND;TZID=America/Vancouver:20240519T163000
DTSTAMP:20260422T162257
CREATED:20240202T192600Z
LAST-MODIFIED:20240508T165548Z
UID:10002889-1716132600-1716136200@poniesandpipsqueaks.com
SUMMARY:Adventure Quest - 1 Time Experience - Fairy Princesses
DESCRIPTION:Costumes\, ponies\, adventure quests and endless possibilities! \n\n\n\nPonies and Pipsqueaks Adventure Quest Programs are a great way to introduce children to ponies. We are now offering this amazing experience in a 1-time experience for those who can’t join us for our 6-week sessions! This program is structured for children 3.5-7\, incorporating imagination play and pony rides. \n\n\n\nIt’s Fairy Princess day!  The Enchanted Forest has been cursed!  The fairy princesses will need to saddle up their unicorns and rid the forest of the cheeky Impkins before they start causing trouble!
URL:https://poniesandpipsqueaks.com/event/adventure-quest-1-time-experience-fairy-princesses/
LOCATION:BC
CATEGORIES:Pony Adventure
ATTACH;FMTTYPE=image/jpeg:https://poniesandpipsqueaks.com/wp-content/uploads/2024/02/AdventureQuests_2022_25-scaled-e1715187256225.jpg
END:VEVENT
END:VCALENDAR