BEGIN:VCALENDAR
VERSION:2.0
PRODID:-//Ponies &amp; Pipsqueaks - ECPv6.15.20//NONSGML v1.0//EN
CALSCALE:GREGORIAN
METHOD:PUBLISH
X-WR-CALNAME:Ponies &amp; Pipsqueaks
X-ORIGINAL-URL:https://poniesandpipsqueaks.com
X-WR-CALDESC:Events for Ponies &amp; Pipsqueaks
REFRESH-INTERVAL;VALUE=DURATION:PT1H
X-Robots-Tag:noindex
X-PUBLISHED-TTL:PT1H
BEGIN:VTIMEZONE
TZID:America/Vancouver
BEGIN:DAYLIGHT
TZOFFSETFROM:-0800
TZOFFSETTO:-0700
TZNAME:PDT
DTSTART:20230312T100000
END:DAYLIGHT
BEGIN:STANDARD
TZOFFSETFROM:-0700
TZOFFSETTO:-0800
TZNAME:PST
DTSTART:20231105T090000
END:STANDARD
BEGIN:DAYLIGHT
TZOFFSETFROM:-0800
TZOFFSETTO:-0700
TZNAME:PDT
DTSTART:20240310T100000
END:DAYLIGHT
BEGIN:STANDARD
TZOFFSETFROM:-0700
TZOFFSETTO:-0800
TZNAME:PST
DTSTART:20241103T090000
END:STANDARD
BEGIN:DAYLIGHT
TZOFFSETFROM:-0800
TZOFFSETTO:-0700
TZNAME:PDT
DTSTART:20250309T100000
END:DAYLIGHT
BEGIN:STANDARD
TZOFFSETFROM:-0700
TZOFFSETTO:-0800
TZNAME:PST
DTSTART:20251102T090000
END:STANDARD
END:VTIMEZONE
BEGIN:VEVENT
DTSTART;TZID=America/Vancouver:20240428T153000
DTEND;TZID=America/Vancouver:20240428T163000
DTSTAMP:20260422T151353
CREATED:20230206T200231Z
LAST-MODIFIED:20240723T214817Z
UID:10001563-1714318200-1714321800@poniesandpipsqueaks.com
SUMMARY:Adventure Quest - 1 Time Experience - Knights & Princesses
DESCRIPTION:Costumes\, ponies\, adventure quests and endless possibilities! \n\n\n\nPonies and Pipsqueaks Adventure Quest Programs are a great way to introduce children to ponies. We are now offering this amazing experience in a 1-time experience for those who can’t join us for our 7-week sessions! This program is structured for children 3.5-7\, incorporating imagination play and pony rides. \n\n\n\nIt’s Knights and Princesses day!  An evil wizard has put a curse on the kingdom! Our trusty steads have been transformed into unicorns and we must go on a knightly quest to save the day!
URL:https://poniesandpipsqueaks.com/event/adventure-quest-1-time-experience-knights-princesses-1000am-3/
LOCATION:The Briar Patch Farm\, 6044 Oldfield Rd\, Saanich\, BC\, V9E 2J4\, Canada
CATEGORIES:Pony Adventure
ATTACH;FMTTYPE=image/jpeg:https://poniesandpipsqueaks.com/wp-content/uploads/2022/12/AdventureQuests_2022_64-scaled-e1670362758360.jpg
END:VEVENT
END:VCALENDAR