BEGIN:VCALENDAR
VERSION:2.0
PRODID:-//Ponies &amp; Pipsqueaks - ECPv6.15.20//NONSGML v1.0//EN
CALSCALE:GREGORIAN
METHOD:PUBLISH
X-WR-CALNAME:Ponies &amp; Pipsqueaks
X-ORIGINAL-URL:https://poniesandpipsqueaks.com
X-WR-CALDESC:Events for Ponies &amp; Pipsqueaks
REFRESH-INTERVAL;VALUE=DURATION:PT1H
X-Robots-Tag:noindex
X-PUBLISHED-TTL:PT1H
BEGIN:VTIMEZONE
TZID:America/Vancouver
BEGIN:DAYLIGHT
TZOFFSETFROM:-0800
TZOFFSETTO:-0700
TZNAME:PDT
DTSTART:20240310T100000
END:DAYLIGHT
BEGIN:STANDARD
TZOFFSETFROM:-0700
TZOFFSETTO:-0800
TZNAME:PST
DTSTART:20241103T090000
END:STANDARD
BEGIN:DAYLIGHT
TZOFFSETFROM:-0800
TZOFFSETTO:-0700
TZNAME:PDT
DTSTART:20250309T100000
END:DAYLIGHT
BEGIN:STANDARD
TZOFFSETFROM:-0700
TZOFFSETTO:-0800
TZNAME:PST
DTSTART:20251102T090000
END:STANDARD
BEGIN:DAYLIGHT
TZOFFSETFROM:-0800
TZOFFSETTO:-0700
TZNAME:PDT
DTSTART:20260308T100000
END:DAYLIGHT
BEGIN:STANDARD
TZOFFSETFROM:-0700
TZOFFSETTO:-0800
TZNAME:PST
DTSTART:20261101T090000
END:STANDARD
END:VTIMEZONE
BEGIN:VEVENT
DTSTART;TZID=America/Vancouver:20250504T130000
DTEND;TZID=America/Vancouver:20250504T140000
DTSTAMP:20260421T131308
CREATED:20250304T055059Z
LAST-MODIFIED:20250305T031505Z
UID:10009725-1746363600-1746367200@poniesandpipsqueaks.com
SUMMARY:Pony Adventure - 1 Time Experience - Cowboys & Cowgirls - 1:00pm
DESCRIPTION:Costumes\, ponies\, adventure quests and endless possibilities! \n\n\n\nPonies and Pipsqueaks Adventure Quest Programs are a great way to introduce children to ponies. We are now offering this amazing experience in a 1-time experience for those who can’t join us for our 6-week sessions! This program is structured for children 3.5-7\, incorporating imagination play and pony rides. \n\n\n\nThe first skill every cowboy or cowgirl must learn is how to rope a cow! After a little practice we will grab our ponies and head out on the range to round up the cattle!
URL:https://poniesandpipsqueaks.com/event/pony-adventure-1-time-experience-cowboys-cowgirls-100pm/
LOCATION:The Briar Patch Farm\, 6044 Oldfield Rd\, Saanich\, BC\, V9E 2J4\, Canada
CATEGORIES:1 Time Experience,Pony Adventure
ATTACH;FMTTYPE=image/jpeg:https://poniesandpipsqueaks.com/wp-content/uploads/2022/12/AdventureQuests_2022_20-scaled-e1670362411232.jpg
END:VEVENT
BEGIN:VEVENT
DTSTART;TZID=America/Vancouver:20250511T130000
DTEND;TZID=America/Vancouver:20250511T140000
DTSTAMP:20260421T131308
CREATED:20250305T031031Z
LAST-MODIFIED:20250305T031034Z
UID:10009729-1746968400-1746972000@poniesandpipsqueaks.com
SUMMARY:Pony Adventure - 1 Time Experience - Pony Patrol - 1:00pm
DESCRIPTION:Costumes\, ponies\, adventure quests and endless possibilities! \n\n\n\nPonies and Pipsqueaks Adventure Quest Programs are a great way to introduce children to ponies. We are now offering this amazing experience in a 1-time experience for those who can’t join us for our 6-week sessions! This program is structured for children 3.5-7\, incorporating imagination play and pony rides. \n\n\n\nFireworks have scared all the neighbourhood kitties and now they stuck in the trees. Only the bravest of the brave\, the Pony Patrol can save the day!
URL:https://poniesandpipsqueaks.com/event/pony-adventure-1-time-experience-pony-patrol-100pm/
LOCATION:The Briar Patch Farm\, 6044 Oldfield Rd\, Saanich\, BC\, V9E 2J4\, Canada
CATEGORIES:1 Time Experience,Pony Adventure
ATTACH;FMTTYPE=image/jpeg:https://poniesandpipsqueaks.com/wp-content/uploads/2022/12/AdventureQuests_2022_110-scaled-e1670362521120.jpg
END:VEVENT
BEGIN:VEVENT
DTSTART;TZID=America/Vancouver:20250518T130000
DTEND;TZID=America/Vancouver:20250518T140000
DTSTAMP:20260421T131308
CREATED:20250305T040121Z
LAST-MODIFIED:20250305T044242Z
UID:10009731-1747573200-1747576800@poniesandpipsqueaks.com
SUMMARY:Pony Adventure - 1 Time Experience - Knights & Princesses - 1:00pm
DESCRIPTION:Costumes\, ponies\, adventure quests and endless possibilities! \n\n\n\nPonies and Pipsqueaks Adventure Quest Programs are a great way to introduce children to ponies. We are now offering this amazing experience in a 1-time experience for those who can’t join us for our 6-week sessions! This program is structured for children 3.5-7\, incorporating imagination play and pony rides. \n\n\n\nAn evil wizard has put a curse on the kingdom! Our trusty steads have been transformed into unicorns and we must go on a knightly quest to save the day!
URL:https://poniesandpipsqueaks.com/event/adventure-quest-1-time-experience-knights-princesses-100pm/
LOCATION:The Briar Patch Farm\, 6044 Oldfield Rd\, Saanich\, BC\, V9E 2J4\, Canada
CATEGORIES:1 Time Experience,Pony Adventure
ATTACH;FMTTYPE=image/jpeg:https://poniesandpipsqueaks.com/wp-content/uploads/2022/12/AdventureQuests_2022_64-scaled-e1670362758360.jpg
END:VEVENT
END:VCALENDAR