BEGIN:VCALENDAR
VERSION:2.0
PRODID:-//Ponies &amp; Pipsqueaks - ECPv6.15.20//NONSGML v1.0//EN
CALSCALE:GREGORIAN
METHOD:PUBLISH
X-WR-CALNAME:Ponies &amp; Pipsqueaks
X-ORIGINAL-URL:https://poniesandpipsqueaks.com
X-WR-CALDESC:Events for Ponies &amp; Pipsqueaks
REFRESH-INTERVAL;VALUE=DURATION:PT1H
X-Robots-Tag:noindex
X-PUBLISHED-TTL:PT1H
BEGIN:VTIMEZONE
TZID:America/Vancouver
BEGIN:DAYLIGHT
TZOFFSETFROM:-0800
TZOFFSETTO:-0700
TZNAME:PDT
DTSTART:20230312T100000
END:DAYLIGHT
BEGIN:STANDARD
TZOFFSETFROM:-0700
TZOFFSETTO:-0800
TZNAME:PST
DTSTART:20231105T090000
END:STANDARD
BEGIN:DAYLIGHT
TZOFFSETFROM:-0800
TZOFFSETTO:-0700
TZNAME:PDT
DTSTART:20240310T100000
END:DAYLIGHT
BEGIN:STANDARD
TZOFFSETFROM:-0700
TZOFFSETTO:-0800
TZNAME:PST
DTSTART:20241103T090000
END:STANDARD
BEGIN:DAYLIGHT
TZOFFSETFROM:-0800
TZOFFSETTO:-0700
TZNAME:PDT
DTSTART:20250309T100000
END:DAYLIGHT
BEGIN:STANDARD
TZOFFSETFROM:-0700
TZOFFSETTO:-0800
TZNAME:PST
DTSTART:20251102T090000
END:STANDARD
END:VTIMEZONE
BEGIN:VEVENT
DTSTART;TZID=America/Vancouver:20240505T153000
DTEND;TZID=America/Vancouver:20240505T163000
DTSTAMP:20260422T112848
CREATED:20230105T053851Z
LAST-MODIFIED:20240723T214817Z
UID:10001571-1714923000-1714926600@poniesandpipsqueaks.com
SUMMARY:Adventure Quest - 1 Time Experience - Safari
DESCRIPTION:Costumes\, ponies\, adventure quests and endless possibilities! \n\n\n\nPonies and Pipsqueaks Adventure Quest Programs are a great way to introduce children to ponies. We are now offering this amazing experience in a 1-time experience for those who can’t join us for our 6-week sessions! This program is structured for children 3.5-7\, incorporating imagination play and pony rides. \n\n\n\nIt’s Safari Day!  An important part to keeping the forest safe and healthy is researching and documenting it. Our Ponies and Pipsqueaks Research Team is in charge of taking an inventory of the jungle to see how many animals live there. Watch out for lions!
URL:https://poniesandpipsqueaks.com/event/adventure-quest-1-time-experience-safari-1000am-2/
LOCATION:The Briar Patch Farm\, 6044 Oldfield Rd\, Saanich\, BC\, V9E 2J4\, Canada
CATEGORIES:Pony Adventure
ATTACH;FMTTYPE=image/jpeg:https://poniesandpipsqueaks.com/wp-content/uploads/2022/12/AdventureQuests_2022_149-scaled-e1670362612723.jpg
END:VEVENT
BEGIN:VEVENT
DTSTART;TZID=America/Vancouver:20240512T153000
DTEND;TZID=America/Vancouver:20240512T163000
DTSTAMP:20260422T112848
CREATED:20240202T194025Z
LAST-MODIFIED:20240508T054835Z
UID:10002884-1715527800-1715531400@poniesandpipsqueaks.com
SUMMARY:Adventure Quest - 1 Time Experience - Candy Land
DESCRIPTION:Costumes\, ponies\, adventure quests and endless possibilities! \n\n\n\nPonies and Pipsqueaks Adventure Quest Programs are a great way to introduce children to ponies. We are now offering this amazing experience in a 1-time experience for those who can’t join us for our 6-week sessions! This program is structured for children 3.5-7\, incorporating imagination play and pony rides. \n\n\n\nTime to save Candy Land!  A GIANT visited Candy Land and caused damage to the entire town!  We need the Candy Land Chefs to collect the ingredients to make the magic candy cement to fix it all!  Thankfully we have our trusted unicorns to lead the way!
URL:https://poniesandpipsqueaks.com/event/adventure-quest-1-time-experience-candy-land/
LOCATION:BC
CATEGORIES:Pony Adventure
ATTACH;FMTTYPE=image/jpeg:https://poniesandpipsqueaks.com/wp-content/uploads/2024/02/Clip-Art.jpg
END:VEVENT
BEGIN:VEVENT
DTSTART;TZID=America/Vancouver:20240519T153000
DTEND;TZID=America/Vancouver:20240519T163000
DTSTAMP:20260422T112848
CREATED:20240202T192600Z
LAST-MODIFIED:20240508T165548Z
UID:10002889-1716132600-1716136200@poniesandpipsqueaks.com
SUMMARY:Adventure Quest - 1 Time Experience - Fairy Princesses
DESCRIPTION:Costumes\, ponies\, adventure quests and endless possibilities! \n\n\n\nPonies and Pipsqueaks Adventure Quest Programs are a great way to introduce children to ponies. We are now offering this amazing experience in a 1-time experience for those who can’t join us for our 6-week sessions! This program is structured for children 3.5-7\, incorporating imagination play and pony rides. \n\n\n\nIt’s Fairy Princess day!  The Enchanted Forest has been cursed!  The fairy princesses will need to saddle up their unicorns and rid the forest of the cheeky Impkins before they start causing trouble!
URL:https://poniesandpipsqueaks.com/event/adventure-quest-1-time-experience-fairy-princesses/
LOCATION:BC
CATEGORIES:Pony Adventure
ATTACH;FMTTYPE=image/jpeg:https://poniesandpipsqueaks.com/wp-content/uploads/2024/02/AdventureQuests_2022_25-scaled-e1715187256225.jpg
END:VEVENT
BEGIN:VEVENT
DTSTART;TZID=America/Vancouver:20240526T153000
DTEND;TZID=America/Vancouver:20240526T163000
DTSTAMP:20260422T112848
CREATED:20230104T213020Z
LAST-MODIFIED:20240723T215644Z
UID:10001549-1716737400-1716741000@poniesandpipsqueaks.com
SUMMARY:Adventure Quest - 1 Time Experience - Vikings
DESCRIPTION:Costumes\, ponies\, adventure quests and endless possibilities! \n\n\n\nPonies and Pipsqueaks Adventure Quest Programs are a great way to introduce children to ponies. We are now offering this amazing experience in a 1-time experience for those who can’t join us for our 6-week sessions! This program is structured for children 3.5-7\, incorporating imagination play and pony rides. \n\n\n\nIt’s Viking Day!  Baby dragons are lost in the woods! Only the brave Vikings will be able to return them safely to their nests!
URL:https://poniesandpipsqueaks.com/event/adventure-quest-1-time-experience-vikings-1000am-4/
LOCATION:The Briar Patch Farm\, 6044 Oldfield Rd\, Saanich\, BC\, V9E 2J4\, Canada
CATEGORIES:1 Time Experience,Pony Adventure
ATTACH;FMTTYPE=image/jpeg:https://poniesandpipsqueaks.com/wp-content/uploads/2022/02/Feb19SneakPeek_29-scaled-e1645593940943.jpg
END:VEVENT
BEGIN:VEVENT
DTSTART;TZID=America/Vancouver:20240526T153000
DTEND;TZID=America/Vancouver:20240526T163000
DTSTAMP:20260422T112848
CREATED:20240130T205143Z
LAST-MODIFIED:20240723T215644Z
UID:10001467-1716737400-1716741000@poniesandpipsqueaks.com
SUMMARY:Weekly Adventure Quests - 7-Week Session 2
DESCRIPTION:Start Date: \n\n\n\n\n\n\n\nSession 2  – May 26\, June 2\, 9\, 16\, 23\, 30\, July 7 \n\n\n\nCostumes\, ponies\, adventure quests and endless possibilities! \n\n\n\nPonies and Pipsqueaks Adventure Quest Programs are a great way to introduce children to ponies. This 6 week program is structured for children 3.5-7\, incorporating imagination play and pony rides. \n\n\n\nCostumes provided.
URL:https://poniesandpipsqueaks.com/event/weekly-adventure-quests-6-week-session-2-10am-4/
LOCATION:The Briar Patch Farm\, 6044 Oldfield Road\, Saanich\, BC\, Canada
CATEGORIES:1 Time Experience,Pony Adventure
ATTACH;FMTTYPE=image/jpeg:https://poniesandpipsqueaks.com/wp-content/uploads/2022/01/DSC_8692WEB-1.jpg
END:VEVENT
END:VCALENDAR