BEGIN:VCALENDAR
VERSION:2.0
PRODID:-//Ponies &amp; Pipsqueaks - ECPv6.15.20//NONSGML v1.0//EN
CALSCALE:GREGORIAN
METHOD:PUBLISH
X-WR-CALNAME:Ponies &amp; Pipsqueaks
X-ORIGINAL-URL:https://poniesandpipsqueaks.com
X-WR-CALDESC:Events for Ponies &amp; Pipsqueaks
REFRESH-INTERVAL;VALUE=DURATION:PT1H
X-Robots-Tag:noindex
X-PUBLISHED-TTL:PT1H
BEGIN:VTIMEZONE
TZID:America/Vancouver
BEGIN:DAYLIGHT
TZOFFSETFROM:-0800
TZOFFSETTO:-0700
TZNAME:PDT
DTSTART:20230312T100000
END:DAYLIGHT
BEGIN:STANDARD
TZOFFSETFROM:-0700
TZOFFSETTO:-0800
TZNAME:PST
DTSTART:20231105T090000
END:STANDARD
BEGIN:DAYLIGHT
TZOFFSETFROM:-0800
TZOFFSETTO:-0700
TZNAME:PDT
DTSTART:20240310T100000
END:DAYLIGHT
BEGIN:STANDARD
TZOFFSETFROM:-0700
TZOFFSETTO:-0800
TZNAME:PST
DTSTART:20241103T090000
END:STANDARD
BEGIN:DAYLIGHT
TZOFFSETFROM:-0800
TZOFFSETTO:-0700
TZNAME:PDT
DTSTART:20250309T100000
END:DAYLIGHT
BEGIN:STANDARD
TZOFFSETFROM:-0700
TZOFFSETTO:-0800
TZNAME:PST
DTSTART:20251102T090000
END:STANDARD
END:VTIMEZONE
BEGIN:VEVENT
DTSTART;TZID=America/Vancouver:20240407T153000
DTEND;TZID=America/Vancouver:20240407T163000
DTSTAMP:20260422T124850
CREATED:20230104T212648Z
LAST-MODIFIED:20240723T214817Z
UID:10001550-1712503800-1712507400@poniesandpipsqueaks.com
SUMMARY:Adventure Quest - 1 Time Experience - Vikings
DESCRIPTION:Costumes\, ponies\, adventure quests and endless possibilities! \n\n\n\nPonies and Pipsqueaks Adventure Quest Programs are a great way to introduce children to ponies. We are now offering this amazing experience in a 1-time experience for those who can’t join us for our 6-week sessions! This program is structured for children 4-8\, incorporating imagination play and pony rides. \n\n\n\nIt’s Viking Day!  Baby dragons are lost in the woods! Only the brave Vikings will be able to return them safely to their nests!
URL:https://poniesandpipsqueaks.com/event/adventure-quest-1-time-experience-vikings-1130am-4/
LOCATION:The Briar Patch Farm\, 6044 Oldfield Rd\, Saanich\, BC\, V9E 2J4\, Canada
CATEGORIES:Pony Adventure
ATTACH;FMTTYPE=image/jpeg:https://poniesandpipsqueaks.com/wp-content/uploads/2022/02/Feb19SneakPeek_29-scaled-e1645593940943.jpg
END:VEVENT
BEGIN:VEVENT
DTSTART;TZID=America/Vancouver:20240414T153000
DTEND;TZID=America/Vancouver:20240414T163000
DTSTAMP:20260422T124850
CREATED:20230206T192132Z
LAST-MODIFIED:20240723T214817Z
UID:10001581-1713108600-1713112200@poniesandpipsqueaks.com
SUMMARY:Adventure Quest - 1 Time Experience - Cowboys & Cowgirls
DESCRIPTION:Costumes\, ponies\, adventure quests and endless possibilities! \n\n\n\nPonies and Pipsqueaks Adventure Quest Programs are a great way to introduce children to ponies. We are now offering this amazing experience in a 1-time experience for those who can’t join us for our 6-week sessions! This program is structured for children 3.5-7\, incorporating imagination play and pony rides. \n\n\n\nIt’s Cowboys and Cowgirls day!  The first skill every cowboy or cowgirl must learn is how to rope a cow! After a little practice we will grab our ponies and head out on the range to round up the cattle!
URL:https://poniesandpipsqueaks.com/event/adventure-quest-1-time-experience-cowboys-cowgirls-1000am/
LOCATION:The Briar Patch Farm\, 6044 Oldfield Rd\, Saanich\, BC\, V9E 2J4\, Canada
CATEGORIES:Pony Adventure
ATTACH;FMTTYPE=image/jpeg:https://poniesandpipsqueaks.com/wp-content/uploads/2022/12/AdventureQuests_2022_20-scaled-e1670362411232.jpg
END:VEVENT
BEGIN:VEVENT
DTSTART;TZID=America/Vancouver:20240421T153000
DTEND;TZID=America/Vancouver:20240421T163000
DTSTAMP:20260422T124850
CREATED:20230206T193418Z
LAST-MODIFIED:20240723T214817Z
UID:10001560-1713713400-1713717000@poniesandpipsqueaks.com
SUMMARY:Adventure Quest - 1 Time Experience - Pony Patrol
DESCRIPTION:Costumes\, ponies\, adventure quests and endless possibilities! \n\n\n\nPonies and Pipsqueaks Adventure Quest Programs are a great way to introduce children to ponies. We are now offering this amazing experience in a 1-time experience for those who can’t join us for our 6-week sessions! This program is structured for children 3.5-7\, incorporating imagination play and pony rides. \n\n\n\nIt’s Pony Patrol day!  Fireworks have scared all the neighbourhood kitties and now they stuck in the trees. Only the bravest of the brave\, the Pony Patrol can save the day!
URL:https://poniesandpipsqueaks.com/event/adventure-quest-1-time-experience-pony-patrol-1000am/
LOCATION:The Briar Patch Farm\, 6044 Oldfield Rd\, Saanich\, BC\, V9E 2J4\, Canada
CATEGORIES:Pony Adventure
ATTACH;FMTTYPE=image/jpeg:https://poniesandpipsqueaks.com/wp-content/uploads/2022/12/AdventureQuests_2022_110-scaled-e1670362521120.jpg
END:VEVENT
BEGIN:VEVENT
DTSTART;TZID=America/Vancouver:20240428T153000
DTEND;TZID=America/Vancouver:20240428T163000
DTSTAMP:20260422T124850
CREATED:20230206T200231Z
LAST-MODIFIED:20240723T214817Z
UID:10001563-1714318200-1714321800@poniesandpipsqueaks.com
SUMMARY:Adventure Quest - 1 Time Experience - Knights & Princesses
DESCRIPTION:Costumes\, ponies\, adventure quests and endless possibilities! \n\n\n\nPonies and Pipsqueaks Adventure Quest Programs are a great way to introduce children to ponies. We are now offering this amazing experience in a 1-time experience for those who can’t join us for our 7-week sessions! This program is structured for children 3.5-7\, incorporating imagination play and pony rides. \n\n\n\nIt’s Knights and Princesses day!  An evil wizard has put a curse on the kingdom! Our trusty steads have been transformed into unicorns and we must go on a knightly quest to save the day!
URL:https://poniesandpipsqueaks.com/event/adventure-quest-1-time-experience-knights-princesses-1000am-3/
LOCATION:The Briar Patch Farm\, 6044 Oldfield Rd\, Saanich\, BC\, V9E 2J4\, Canada
CATEGORIES:Pony Adventure
ATTACH;FMTTYPE=image/jpeg:https://poniesandpipsqueaks.com/wp-content/uploads/2022/12/AdventureQuests_2022_64-scaled-e1670362758360.jpg
END:VEVENT
END:VCALENDAR