BEGIN:VCALENDAR
VERSION:2.0
PRODID:-//Ponies &amp; Pipsqueaks - ECPv6.15.20//NONSGML v1.0//EN
CALSCALE:GREGORIAN
METHOD:PUBLISH
X-ORIGINAL-URL:https://poniesandpipsqueaks.com
X-WR-CALDESC:Events for Ponies &amp; Pipsqueaks
REFRESH-INTERVAL;VALUE=DURATION:PT1H
X-Robots-Tag:noindex
X-PUBLISHED-TTL:PT1H
BEGIN:VTIMEZONE
TZID:America/Vancouver
BEGIN:DAYLIGHT
TZOFFSETFROM:-0800
TZOFFSETTO:-0700
TZNAME:PDT
DTSTART:20230312T100000
END:DAYLIGHT
BEGIN:STANDARD
TZOFFSETFROM:-0700
TZOFFSETTO:-0800
TZNAME:PST
DTSTART:20231105T090000
END:STANDARD
BEGIN:DAYLIGHT
TZOFFSETFROM:-0800
TZOFFSETTO:-0700
TZNAME:PDT
DTSTART:20240310T100000
END:DAYLIGHT
BEGIN:STANDARD
TZOFFSETFROM:-0700
TZOFFSETTO:-0800
TZNAME:PST
DTSTART:20241103T090000
END:STANDARD
BEGIN:DAYLIGHT
TZOFFSETFROM:-0800
TZOFFSETTO:-0700
TZNAME:PDT
DTSTART:20250309T100000
END:DAYLIGHT
BEGIN:STANDARD
TZOFFSETFROM:-0700
TZOFFSETTO:-0800
TZNAME:PST
DTSTART:20251102T090000
END:STANDARD
END:VTIMEZONE
BEGIN:VEVENT
DTSTART;TZID=America/Vancouver:20240429T100000
DTEND;TZID=America/Vancouver:20240429T120000
DTSTAMP:20260420T001337
CREATED:20240112T015153Z
LAST-MODIFIED:20240115T195050Z
UID:10001794-1714384800-1714392000@poniesandpipsqueaks.com
SUMMARY:Field Trip - Option 3
DESCRIPTION:First 10 minutes – Sign in and review farm safety. \n\n\n\nNext 30 minutes – Farm tour with horse markings scavenger hunt \n\n\n\nNext 25 minutes – Pony grooming lesson \n\n\n\nNext 25 minutes –  Learn to lead a pony  \n\n\n\nNext 30 minutes – PONY RIDE – 2 rounds/child \n\n\n\nPLEASE NOTE:  Pony rides have a minimum age of 3\, maximum height/weight of 5 feet tall or 95lbs \n\n\n\nPlease note: A waiver must be signed for each child. Please find a download link in your confirmation email to send to parents and guardians.
URL:https://poniesandpipsqueaks.com/event/field-trip-option-3-4/
LOCATION:The Briar Patch Farm\, 6044 Oldfield Rd\, Saanich\, BC\, V9E 2J4\, Canada
CATEGORIES:Field Trip
ATTACH;FMTTYPE=image/jpeg:https://poniesandpipsqueaks.com/wp-content/uploads/2022/01/WEB_Krista_Family_142.jpg
END:VEVENT
BEGIN:VEVENT
DTSTART;TZID=America/Vancouver:20240429T120000
DTEND;TZID=America/Vancouver:20240429T124500
DTSTAMP:20260420T001337
CREATED:20240725T205410Z
LAST-MODIFIED:20250725T201334Z
UID:10006629-1714392000-1714394700@poniesandpipsqueaks.com
SUMMARY:Meet the Ponies - Groom & Ride - Fridays
DESCRIPTION:Program Details:\n\n\n\n\nAges 3+\n\n\n\nApprox. 40-45 minutes in length\n\n\n\nMax. 4 children/class\n\n\n\nHelmet provided\n\n\n\n\n\n\n\n\n\n\n\n\nSample Itinerary For Meet The Ponies\n\n\n\nFirst 10 minutes – Barn tour\, fit helmet \n\n\n\nNext 15 minutes – Learn to groom pony\, names and uses for different brushes \n\n\n\nNext 10 minutes – Pony ride (4 rounds/child) \n\n\n\nLast 5 minutes – Feed treats
URL:https://poniesandpipsqueaks.com/event/meet-the-ponies-groom-ride-9/2024-04-29/
CATEGORIES:1 Time Experience,Meet the Ponies
ATTACH;FMTTYPE=image/jpeg:https://poniesandpipsqueaks.com/wp-content/uploads/2021/06/DSC_9230-scaled-e1643159030234.jpg
ORGANIZER;CN="Ponies and Pipsqueaks":MAILTO:info@poniesandpipsqueaks.com
END:VEVENT
END:VCALENDAR