BEGIN:VCALENDAR
VERSION:2.0
PRODID:-//Ponies &amp; Pipsqueaks - ECPv6.15.20//NONSGML v1.0//EN
CALSCALE:GREGORIAN
METHOD:PUBLISH
X-WR-CALNAME:Ponies &amp; Pipsqueaks
X-ORIGINAL-URL:https://poniesandpipsqueaks.com
X-WR-CALDESC:Events for Ponies &amp; Pipsqueaks
REFRESH-INTERVAL;VALUE=DURATION:PT1H
X-Robots-Tag:noindex
X-PUBLISHED-TTL:PT1H
BEGIN:VTIMEZONE
TZID:America/Vancouver
BEGIN:DAYLIGHT
TZOFFSETFROM:-0800
TZOFFSETTO:-0700
TZNAME:PDT
DTSTART:20230312T100000
END:DAYLIGHT
BEGIN:STANDARD
TZOFFSETFROM:-0700
TZOFFSETTO:-0800
TZNAME:PST
DTSTART:20231105T090000
END:STANDARD
BEGIN:DAYLIGHT
TZOFFSETFROM:-0800
TZOFFSETTO:-0700
TZNAME:PDT
DTSTART:20240310T100000
END:DAYLIGHT
BEGIN:STANDARD
TZOFFSETFROM:-0700
TZOFFSETTO:-0800
TZNAME:PST
DTSTART:20241103T090000
END:STANDARD
BEGIN:DAYLIGHT
TZOFFSETFROM:-0800
TZOFFSETTO:-0700
TZNAME:PDT
DTSTART:20250309T100000
END:DAYLIGHT
BEGIN:STANDARD
TZOFFSETFROM:-0700
TZOFFSETTO:-0800
TZNAME:PST
DTSTART:20251102T090000
END:STANDARD
END:VTIMEZONE
BEGIN:VEVENT
DTSTART;TZID=America/Vancouver:20240325T120000
DTEND;TZID=America/Vancouver:20240325T124500
DTSTAMP:20260420T031747
CREATED:20240725T205410Z
LAST-MODIFIED:20250725T201334Z
UID:10006624-1711368000-1711370700@poniesandpipsqueaks.com
SUMMARY:Meet the Ponies - Groom & Ride - Fridays
DESCRIPTION:Program Details:\n\n\n\n\nAges 3+\n\n\n\nApprox. 40-45 minutes in length\n\n\n\nMax. 4 children/class\n\n\n\nHelmet provided\n\n\n\n\n\n\n\n\n\n\n\n\nSample Itinerary For Meet The Ponies\n\n\n\nFirst 10 minutes – Barn tour\, fit helmet \n\n\n\nNext 15 minutes – Learn to groom pony\, names and uses for different brushes \n\n\n\nNext 10 minutes – Pony ride (4 rounds/child) \n\n\n\nLast 5 minutes – Feed treats
URL:https://poniesandpipsqueaks.com/event/meet-the-ponies-groom-ride-9/2024-03-25/
CATEGORIES:1 Time Experience,Meet the Ponies
ATTACH;FMTTYPE=image/jpeg:https://poniesandpipsqueaks.com/wp-content/uploads/2021/06/DSC_9230-scaled-e1643159030234.jpg
ORGANIZER;CN="Ponies and Pipsqueaks":MAILTO:info@poniesandpipsqueaks.com
END:VEVENT
BEGIN:VEVENT
DTSTART;TZID=America/Vancouver:20240325T130000
DTEND;TZID=America/Vancouver:20240325T134500
DTSTAMP:20260420T031747
CREATED:20231215T194009Z
LAST-MODIFIED:20240723T221731Z
UID:10001767-1711371600-1711374300@poniesandpipsqueaks.com
SUMMARY:Meet the Ponies
DESCRIPTION:Program Details:\n\n\n\n\nAges 3+\n\n\n\nApprox. 40-45 minutes in length\n\n\n\nMax. 4 children/class\n\n\n\nHelmet provided\n\n\n\n\n\n\n\n\n\n\n\n\n\n\n\n\n\n\nSample Itinerary For Meet The Ponies\n\n\n\nFirst 10 minutes – Barn tour\, fit helmet \n\n\n\nNext 15 minutes – Learn to groom pony\, names and uses for different brushes \n\n\n\nNext 10 minutes – Pony ride \n\n\n\nLast 5 minutes – Feed treats
URL:https://poniesandpipsqueaks.com/event/meet-the-ponies-52/
LOCATION:The Briar Patch Farm\, 6044 Oldfield Rd\, Saanich\, BC\, V9E 2J4\, Canada
CATEGORIES:1 Time Experience,Meet the Ponies
ATTACH;FMTTYPE=image/jpeg:https://poniesandpipsqueaks.com/wp-content/uploads/2021/06/DSC_9230-scaled-e1643159030234.jpg
ORGANIZER;CN="Ponies and Pipsqueaks":MAILTO:info@poniesandpipsqueaks.com
END:VEVENT
BEGIN:VEVENT
DTSTART;TZID=America/Vancouver:20240325T140000
DTEND;TZID=America/Vancouver:20240325T150000
DTSTAMP:20260420T031747
CREATED:20231006T002025Z
LAST-MODIFIED:20240207T184248Z
UID:10001760-1711375200-1711378800@poniesandpipsqueaks.com
SUMMARY:Meet a Unicorn - Groom & Ride
DESCRIPTION:Do you have a unicorn obsessed kiddo? \n\n\n\nOur Meet a Unicorn program is a great way to introduce children to the responsibilities of ponies and experience their first ride in the most magical way! \n\n\n\nProgram Details:\n\n\n\n\nAges 3+\n\n\n\nApprox. 50-60 minutes in length depending on group size\n\n\n\nUp to 4 children/class\n\n\n\nHelmet provided\n\n\n\n\n\n\n\n\n\n\n\n\n\n\n\n\n\n\nSample Itinerary For Meet a Unicorn\n\n\n\nFirst 10 minutes – Barn tour\, fit helmet \n\n\n\nNext 15 minutes – Learn to groom unicorn\, names and uses for different brushes \n\n\n\nNext 10 minutes – Braid and decorate unicorn with flowers and bows! \n\n\n\nNext 15 minutes – Pony rides (4 rounds/child) \n\n\n\nLast 5 minutes – Feed treats
URL:https://poniesandpipsqueaks.com/event/meet-a-unicorn-groom-ride-9/
LOCATION:The Briar Patch Farm\, 6044 Oldfield Rd\, Saanich\, BC\, V9E 2J4\, Canada
END:VEVENT
END:VCALENDAR