BEGIN:VCALENDAR
VERSION:2.0
PRODID:-//Ponies &amp; Pipsqueaks - ECPv6.15.20//NONSGML v1.0//EN
CALSCALE:GREGORIAN
METHOD:PUBLISH
X-ORIGINAL-URL:https://poniesandpipsqueaks.com
X-WR-CALDESC:Events for Ponies &amp; Pipsqueaks
REFRESH-INTERVAL;VALUE=DURATION:PT1H
X-Robots-Tag:noindex
X-PUBLISHED-TTL:PT1H
BEGIN:VTIMEZONE
TZID:America/Vancouver
BEGIN:DAYLIGHT
TZOFFSETFROM:-0800
TZOFFSETTO:-0700
TZNAME:PDT
DTSTART:20220313T100000
END:DAYLIGHT
BEGIN:STANDARD
TZOFFSETFROM:-0700
TZOFFSETTO:-0800
TZNAME:PST
DTSTART:20221106T090000
END:STANDARD
BEGIN:DAYLIGHT
TZOFFSETFROM:-0800
TZOFFSETTO:-0700
TZNAME:PDT
DTSTART:20230312T100000
END:DAYLIGHT
BEGIN:STANDARD
TZOFFSETFROM:-0700
TZOFFSETTO:-0800
TZNAME:PST
DTSTART:20231105T090000
END:STANDARD
BEGIN:DAYLIGHT
TZOFFSETFROM:-0800
TZOFFSETTO:-0700
TZNAME:PDT
DTSTART:20240310T100000
END:DAYLIGHT
BEGIN:STANDARD
TZOFFSETFROM:-0700
TZOFFSETTO:-0800
TZNAME:PST
DTSTART:20241103T090000
END:STANDARD
END:VTIMEZONE
BEGIN:VEVENT
DTSTART;TZID=America/Vancouver:20231119T100000
DTEND;TZID=America/Vancouver:20231119T104000
DTSTAMP:20260420T201145
CREATED:20230901T031807Z
LAST-MODIFIED:20231031T070310Z
UID:10001731-1700388000-1700390400@poniesandpipsqueaks.com
SUMMARY:Milk and Cookies with Santa
DESCRIPTION:This magical experience starts with a barn tour with Mrs. Claus and Elf hunt.  Enjoy some milk and cookies with Santa himself as Tessa Leena Photography captures the magical moments.  Finish it all off with a pony ride! To make Santa’s visit even more special we ask you to fill in a questionnaire about your child when you register to refresh Santa’s memory on things that you’ve done this year and what he brought last year. \n\n\n\n\n\n\n\n\n\n\n\n\n\n\n\n\n\n\n\n\n\n\n\n\n\n\n\n\n\n\n\nProgram Details:\n\n\n\n\nUp to 4 children\n\n\n\n40 minutes in length\n\n\n\nBarn Tour\n\n\n\n20 minute mini photoshoot with Tessa Leena Photography\n\n\n\nIncludes 5 pictures (digital files). Additional files can be purchased for $20+GST\n\n\n\nChocolate chip cookies and 2% milk provided. (Please bring your own substitutes if dietary restrictions apply)\n\n\n\nPony ride (minimum age of 3\, maximum weight of 100lbs.)\n\n\n\n\n\n\nSample Itinerary:\n\n\n\nFirst 10 minutes – Barn tour and elf hunt \n\n\n\nNext 20 minutes – Milk and cookies and Santa and mini photoshoot \n\n\n\nLast 10 minutes – Pony ride (minimum age of 3 and maximum weight of 100lbs.)
URL:https://poniesandpipsqueaks.com/event/milk-and-cookies-with-santa-mini-photoshoots-19/
CATEGORIES:Milk and Cookies with Santa Experience
ATTACH;FMTTYPE=image/jpeg:https://poniesandpipsqueaks.com/wp-content/uploads/2021/02/CATF04-scaled-e1753296925333.jpg
END:VEVENT
BEGIN:VEVENT
DTSTART;TZID=America/Vancouver:20231119T104500
DTEND;TZID=America/Vancouver:20231119T112500
DTSTAMP:20260420T201145
CREATED:20230901T032201Z
LAST-MODIFIED:20231118T060210Z
UID:10001724-1700390700-1700393100@poniesandpipsqueaks.com
SUMMARY:Milk and Cookies with Santa
DESCRIPTION:This magical experience starts with a barn tour with Mrs. Claus and Elf hunt. Enjoy some milk and cookies with Santa himself as Tessa Leena Photography captures the magical moments. Finish it all off with a pony ride! To make Santa’s visit even more special we ask you to fill in a questionnaire about your child when you register to refresh Santa’s memory on things that you’ve done this year and what he brought last year. \n\n\n\n\n\n\n\n\n\n\n\n\n\n\n\n\n\n\n\n\n\n\n\n\n\n\n\n\n\n\n\nProgram Details:\n\n\n\n\nUp to 4 children\n\n\n\n40 minutes in length\n\n\n\nBarn Tour\n\n\n\nMilk and cookies with Santa while Tessa Leena Photography captures the magic moments.\n\n\n\nIncludes 5 pictures (digital files). Additional files can be purchased for $20+GST\n\n\n\nChocolate chip cookies and 2% milk provided. (Please bring your own substitutes if dietary restrictions apply)\n\n\n\nPony ride (minimum age of 3\, maximum weight of 100lbs.)\n\n\n\n\n\n\nSample Itinerary:\n\n\n\nFirst 10 minutes – Barn tour and elf hunt \n\n\n\nNext 20 minutes – Milk and cookies and Santa while Tessa Leena Photography captures the magic moments. \n\n\n\nLast 10 minutes – Pony ride (minimum age of 3 and maximum weight of 100lbs.)
URL:https://poniesandpipsqueaks.com/event/milk-and-cookies-with-santa-mini-photoshoots-28/
CATEGORIES:Milk and Cookies with Santa Experience
ATTACH;FMTTYPE=image/jpeg:https://poniesandpipsqueaks.com/wp-content/uploads/2021/02/CATF04-scaled-e1753296925333.jpg
END:VEVENT
BEGIN:VEVENT
DTSTART;TZID=America/Vancouver:20231119T113000
DTEND;TZID=America/Vancouver:20231119T121000
DTSTAMP:20260420T201145
CREATED:20230901T032218Z
LAST-MODIFIED:20231116T202220Z
UID:10001725-1700393400-1700395800@poniesandpipsqueaks.com
SUMMARY:Milk and Cookies with Santa
DESCRIPTION:This magical experience starts with a barn tour with Mrs. Claus and Elf hunt. Enjoy some milk and cookies with Santa himself as Tessa Leena Photography captures the magical moments. Finish it all off with a pony ride! To make Santa’s visit even more special we ask you to fill in a questionnaire about your child when you register to refresh Santa’s memory on things that you’ve done this year and what he brought last year. \n\n\n\n\n\n\n\n\n\n\n\n\n\n\n\n\n\n\n\n\n\n\n\n\n\n\n\n\n\n\n\nProgram Details:\n\n\n\n\nUp to 4 children\n\n\n\n40 minutes in length\n\n\n\nBarn Tour\n\n\n\nMilk and cookies with Santa while Tessa Leena Photography captures the magic moments.\n\n\n\nIncludes 5 pictures (digital files). Additional files can be purchased for $20+GST/file.\n\n\n\nChocolate chip cookies and 2% milk provided. (Please bring your own substitutes if dietary restrictions apply)\n\n\n\nPony ride (minimum age of 3\, maximum weight of 100lbs.)\n\n\n\n\n\n\nSample Itinerary:\n\n\n\nFirst 10 minutes – Barn tour and elf hunt \n\n\n\nNext 20 minutes – Milk and cookies and Santa while Tessa Leena Photography captures the magic moments! \n\n\n\nLast 10 minutes – Pony ride (minimum age of 3 and maximum weight of 100lbs.)
URL:https://poniesandpipsqueaks.com/event/milk-and-cookies-with-santa-mini-photoshoots-29/
CATEGORIES:Milk and Cookies with Santa Experience
ATTACH;FMTTYPE=image/jpeg:https://poniesandpipsqueaks.com/wp-content/uploads/2021/02/CATF04-scaled-e1753296925333.jpg
END:VEVENT
BEGIN:VEVENT
DTSTART;TZID=America/Vancouver:20231119T130000
DTEND;TZID=America/Vancouver:20231119T134000
DTSTAMP:20260420T201145
CREATED:20230901T032231Z
LAST-MODIFIED:20231118T055626Z
UID:10001726-1700398800-1700401200@poniesandpipsqueaks.com
SUMMARY:Milk and Cookies with Santa
DESCRIPTION:This magical experience starts with a barn tour with Mrs. Claus and Elf hunt. Enjoy some milk and cookies with Santa himself as Tessa Leena Photography captures the magical moments. Finish it all off with a pony ride! To make Santa’s visit even more special we ask you to fill in a questionnaire about your child when you register to refresh Santa’s memory on things that you’ve done this year and what he brought last year. \n\n\n\n\n\n\n\n\n\n\n\n\n\n\n\n\n\n\n\n\n\n\n\n\n\n\n\n\n\n\n\nProgram Details:\n\n\n\n\nUp to 4 children\n\n\n\n40 minutes in length\n\n\n\nBarn Tour\n\n\n\nMilk and cookies with Santa while Tessa Leena Photography captures the magic moments\n\n\n\nIncludes 5 pictures (digital files). Additional files can be purchased for $20+GST\n\n\n\nChocolate chip cookies and 2% milk provided. (Please bring your own substitutes if dietary restrictions apply)\n\n\n\nPony ride (minimum age of 3\, maximum weight of 100lbs.)\n\n\n\n\n\n\nSample Itinerary:\n\n\n\nFirst 10 minutes – Barn tour and elf hunt \n\n\n\nNext 20 minutes – Milk and cookies and Santa while Tessa Leena Photography captures the magic moments. \n\n\n\nLast 10 minutes – Pony ride (minimum age of 3 and maximum weight of 100lbs.)
URL:https://poniesandpipsqueaks.com/event/milk-and-cookies-with-santa-mini-photoshoots-30/
CATEGORIES:Milk and Cookies with Santa Experience
ATTACH;FMTTYPE=image/jpeg:https://poniesandpipsqueaks.com/wp-content/uploads/2021/02/CATF04-scaled-e1753296925333.jpg
END:VEVENT
BEGIN:VEVENT
DTSTART;TZID=America/Vancouver:20231119T134500
DTEND;TZID=America/Vancouver:20231119T142500
DTSTAMP:20260420T201145
CREATED:20230901T032247Z
LAST-MODIFIED:20231114T221040Z
UID:10001727-1700401500-1700403900@poniesandpipsqueaks.com
SUMMARY:Milk and Cookies with Santa
DESCRIPTION:This magical experience starts with a barn tour with Mrs. Claus and Elf hunt. Enjoy some milk and cookies with Santa himself as Tessa Leena Photography captures the magical moments. Finish it all off with a pony ride! To make Santa’s visit even more special we ask you to fill in a questionnaire about your child when you register to refresh Santa’s memory on things that you’ve done this year and what he brought last year. \n\n\n\n\n\n\n\n\n\n\n\n\n\n\n\n\n\n\n\n\n\n\n\n\n\n\n\n\n\n\n\nProgram Details:\n\n\n\n\nUp to 4 children\n\n\n\n40 minutes in length\n\n\n\nBarn Tour\n\n\n\nMilk and cookies with Santa while Tessa Leena Photography captures the magic moments.\n\n\n\nIncludes 5 pictures (digital files). Additional files can be purchased for $20+GST\n\n\n\nChocolate chip cookies and 2% milk provided. (Please bring your own substitutes if dietary restrictions apply)\n\n\n\nPony ride (minimum age of 3\, maximum weight of 100lbs.)\n\n\n\n\n\n\nSample Itinerary:\n\n\n\nFirst 10 minutes – Barn tour and elf hunt \n\n\n\nNext 20 minutes – Milk and cookies with Santa while Tessa Leena Photography captures the magic moments. \n\n\n\nLast 10 minutes – Pony ride (minimum age of 3 and maximum weight of 100lbs.)
URL:https://poniesandpipsqueaks.com/event/milk-and-cookies-with-santa-mini-photoshoots-31/
CATEGORIES:Milk and Cookies with Santa Experience
ATTACH;FMTTYPE=image/jpeg:https://poniesandpipsqueaks.com/wp-content/uploads/2021/02/CATF04-scaled-e1753296925333.jpg
END:VEVENT
BEGIN:VEVENT
DTSTART;TZID=America/Vancouver:20231119T143000
DTEND;TZID=America/Vancouver:20231119T151000
DTSTAMP:20260420T201145
CREATED:20230901T032258Z
LAST-MODIFIED:20231031T070927Z
UID:10001728-1700404200-1700406600@poniesandpipsqueaks.com
SUMMARY:Milk and Cookies with Santa
DESCRIPTION:This magical experience starts with a barn tour with Mrs. Claus and Elf hunt. Enjoy some milk and cookies with Santa himself as Tessa Leena Photography captures the magical moments. Finish it all off with a pony ride! To make Santa’s visit even more special we ask you to fill in a questionnaire about your child when you register to refresh Santa’s memory on things that you’ve done this year and what he brought last year. \n\n\n\n\n\n\n\n\n\n\n\n\n\n\n\n\n\n\n\n\n\n\n\n\n\n\n\n\n\n\n\nProgram Details:\n\n\n\n\nUp to 4 children\n\n\n\n40 minutes in length\n\n\n\nBarn Tour\n\n\n\nMilk and cookies with Santa while Tessa Leena Photography captures the magic moments.\n\n\n\nIncludes 5 pictures (digital files). Additional files can be purchased for $20+GST\n\n\n\nChocolate chip cookies and 2% milk provided. (Please bring your own substitutes if dietary restrictions apply)\n\n\n\nPony ride (minimum age of 3\, maximum weight of 100lbs.)\n\n\n\n\n\n\nSample Itinerary:\n\n\n\nFirst 10 minutes – Barn tour and elf hunt \n\n\n\nNext 20 minutes – Milk and cookies with Santa while Tessa Leena Photography captures the magic moments. \n\n\n\nLast 10 minutes – Pony ride (minimum age of 3 and maximum weight of 100lbs.)
URL:https://poniesandpipsqueaks.com/event/milk-and-cookies-with-santa-mini-photoshoots-32/
CATEGORIES:Milk and Cookies with Santa Experience
ATTACH;FMTTYPE=image/jpeg:https://poniesandpipsqueaks.com/wp-content/uploads/2021/02/CATF04-scaled-e1753296925333.jpg
END:VEVENT
BEGIN:VEVENT
DTSTART;TZID=America/Vancouver:20231119T151500
DTEND;TZID=America/Vancouver:20231119T155500
DTSTAMP:20260420T201145
CREATED:20230901T032319Z
LAST-MODIFIED:20231114T220923Z
UID:10001729-1700406900-1700409300@poniesandpipsqueaks.com
SUMMARY:Milk and Cookies with Santa
DESCRIPTION:This magical experience starts with a barn tour with Mrs. Claus and Elf hunt. Enjoy some milk and cookies with Santa himself as Tessa Leena Photography captures the magical moments. Finish it all off with a pony ride! To make Santa’s visit even more special we ask you to fill in a questionnaire about your child when you register to refresh Santa’s memory on things that you’ve done this year and what he brought last year. \n\n\n\n\n\n\n\n\n\n\n\n\n\n\n\n\n\n\n\n\n\n\n\n\n\n\n\n\n\n\n\nProgram Details:\n\n\n\n\nUp to 4 children\n\n\n\n40 minutes in length\n\n\n\nBarn Tour\n\n\n\nMilk and cookies with Santa while Tessa Leena Photography captures the magic moments.\n\n\n\nIncludes 5 pictures (digital files). Additional files can be purchased for $20+GST/file\n\n\n\nChocolate chip cookies and 2% milk provided. (Please bring your own substitutes if dietary restrictions apply)\n\n\n\nPony ride (minimum age of 3\, maximum weight of 100lbs.)\n\n\n\n\n\n\nSample Itinerary:\n\n\n\nFirst 10 minutes – Barn tour and elf hunt \n\n\n\nNext 20 minutes – Milk and cookies with Santa while Tessa Leena Photography captures the magic moments. \n\n\n\nLast 10 minutes – Pony ride (minimum age of 3 and maximum weight of 100lbs.)
URL:https://poniesandpipsqueaks.com/event/milk-and-cookies-with-santa-mini-photoshoots-33/
CATEGORIES:Milk and Cookies with Santa Experience
ATTACH;FMTTYPE=image/jpeg:https://poniesandpipsqueaks.com/wp-content/uploads/2021/02/CATF04-scaled-e1753296925333.jpg
END:VEVENT
BEGIN:VEVENT
DTSTART;TZID=America/Vancouver:20231119T160000
DTEND;TZID=America/Vancouver:20231119T164000
DTSTAMP:20260420T201145
CREATED:20230901T032335Z
LAST-MODIFIED:20231116T202307Z
UID:10001730-1700409600-1700412000@poniesandpipsqueaks.com
SUMMARY:Milk and Cookies with Santa
DESCRIPTION:This magical experience starts with a barn tour with Mrs. Claus and Elf hunt. Enjoy some milk and cookies with Santa himself as Tessa Leena Photography captures the magical moments. Finish it all off with a pony ride! To make Santa’s visit even more special we ask you to fill in a questionnaire about your child when you register to refresh Santa’s memory on things that you’ve done this year and what he brought last year. \n\n\n\n\n\n\n\n\n\n\n\n\n\n\n\n\n\n\n\n\n\n\n\n\n\n\n\n\n\n\n\nProgram Details:\n\n\n\n\nUp to 4 children\n\n\n\n40 minutes in length\n\n\n\nBarn Tour\n\n\n\nMilk and cookies with Santa while Tessa Leena Photography captures the magic moments.\n\n\n\nIncludes 5 pictures (digital files). Additional files can be purchased for $20+GST/file.\n\n\n\nChocolate chip cookies and 2% milk provided. (Please bring your own substitutes if dietary restrictions apply)\n\n\n\nPony ride (minimum age of 3\, maximum weight of 100lbs.)\n\n\n\n\n\n\nSample Itinerary:\n\n\n\nFirst 10 minutes – Barn tour and elf hunt \n\n\n\nNext 20 minutes – Milk and cookies with Santa while Tessa Leena Photography captures the magic moments. \n\n\n\nLast 10 minutes – Pony ride (minimum age of 3 and maximum weight of 100lbs.)
URL:https://poniesandpipsqueaks.com/event/milk-and-cookies-with-santa-mini-photoshoots-34/
CATEGORIES:Milk and Cookies with Santa Experience
ATTACH;FMTTYPE=image/jpeg:https://poniesandpipsqueaks.com/wp-content/uploads/2021/02/CATF04-scaled-e1753296925333.jpg
END:VEVENT
END:VCALENDAR