BEGIN:VCALENDAR
VERSION:2.0
PRODID:-//Ponies &amp; Pipsqueaks - ECPv6.15.20//NONSGML v1.0//EN
CALSCALE:GREGORIAN
METHOD:PUBLISH
X-ORIGINAL-URL:https://poniesandpipsqueaks.com
X-WR-CALDESC:Events for Ponies &amp; Pipsqueaks
REFRESH-INTERVAL;VALUE=DURATION:PT1H
X-Robots-Tag:noindex
X-PUBLISHED-TTL:PT1H
BEGIN:VTIMEZONE
TZID:America/Vancouver
BEGIN:DAYLIGHT
TZOFFSETFROM:-0800
TZOFFSETTO:-0700
TZNAME:PDT
DTSTART:20220313T100000
END:DAYLIGHT
BEGIN:STANDARD
TZOFFSETFROM:-0700
TZOFFSETTO:-0800
TZNAME:PST
DTSTART:20221106T090000
END:STANDARD
BEGIN:DAYLIGHT
TZOFFSETFROM:-0800
TZOFFSETTO:-0700
TZNAME:PDT
DTSTART:20230312T100000
END:DAYLIGHT
BEGIN:STANDARD
TZOFFSETFROM:-0700
TZOFFSETTO:-0800
TZNAME:PST
DTSTART:20231105T090000
END:STANDARD
BEGIN:DAYLIGHT
TZOFFSETFROM:-0800
TZOFFSETTO:-0700
TZNAME:PDT
DTSTART:20240310T100000
END:DAYLIGHT
BEGIN:STANDARD
TZOFFSETFROM:-0700
TZOFFSETTO:-0800
TZNAME:PST
DTSTART:20241103T090000
END:STANDARD
END:VTIMEZONE
BEGIN:VEVENT
DTSTART;TZID=America/Vancouver:20231118T100000
DTEND;TZID=America/Vancouver:20231118T104000
DTSTAMP:20260420T213759
CREATED:20230901T032003Z
LAST-MODIFIED:20231118T060241Z
UID:10001707-1700301600-1700304000@poniesandpipsqueaks.com
SUMMARY:Milk and Cookies with Santa
DESCRIPTION:This magical experience starts with a barn tour with Mrs. Claus and Elf hunt.  Enjoy some milk and cookies with Santa himself as Tessa Leena Photography captures the magical moments.  Finish it all off with a pony ride! To make Santa’s visit even more special we ask you to fill in a questionnaire about your child when you register to refresh Santa’s memory on things that you’ve done this year and what he brought last year. \n\n\n\n\n\n\n\n\n\n\n\n\n\n\n\n\n\n\n\n\n\n\n\n\n\n\n\n\n\n\n\nProgram Details:\n\n\n\n\nUp to 4 children\n\n\n\n40 minutes in length\n\n\n\nBarn Tour\n\n\n\n20 minute mini photoshoot with Tessa Leena Photography\n\n\n\nIncludes 5 pictures (digital files). Additional files can be purchased for $20+GST\n\n\n\nChocolate chip cookies and 2% milk provided. (Please bring your own substitutes if dietary restrictions apply)\n\n\n\nPony ride (minimum age of 3\, maximum weight of 100lbs.)\n\n\n\n\n\n\nSample Itinerary:\n\n\n\nFirst 10 minutes – Barn tour and elf hunt \n\n\n\nNext 20 minutes – Milk and cookies and Santa and mini photoshoot \n\n\n\nLast 10 minutes – Pony ride (minimum age of 3 and maximum weight of 100lbs.)
URL:https://poniesandpipsqueaks.com/event/milk-and-cookies-with-santa-mini-photoshoots-20/
CATEGORIES:Milk and Cookies with Santa Experience
ATTACH;FMTTYPE=image/jpeg:https://poniesandpipsqueaks.com/wp-content/uploads/2021/02/CATF04-scaled-e1753296925333.jpg
END:VEVENT
BEGIN:VEVENT
DTSTART;TZID=America/Vancouver:20231118T104500
DTEND;TZID=America/Vancouver:20231118T112500
DTSTAMP:20260420T213759
CREATED:20230901T032017Z
LAST-MODIFIED:20231118T053345Z
UID:10001708-1700304300-1700306700@poniesandpipsqueaks.com
SUMMARY:Milk and Cookies with Santa
DESCRIPTION:This magical experience starts with a barn tour with Mrs. Claus and Elf hunt.  Enjoy some milk and cookies with Santa himself as Tessa Leena Photography captures the magical moments.  Finish it all off with a pony ride! To make Santa’s visit even more special we ask you to fill in a questionnaire about your child when you register to refresh Santa’s memory on things that you’ve done this year and what he brought last year. \n\n\n\n\n\n\n\n\n\n\n\n\n\n\n\n\n\n\n\n\n\n\n\n\n\n\n\n\n\n\n\nProgram Details:\n\n\n\n\nUp to 4 children\n\n\n\n40 minutes in length\n\n\n\nBarn Tour\n\n\n\n20 minute mini photoshoot with Tessa Leena Photography\n\n\n\nIncludes 5 pictures (digital files). Additional files can be purchased for $20+GST\n\n\n\nChocolate chip cookies and 2% milk provided. (Please bring your own substitutes if dietary restrictions apply)\n\n\n\nPony ride (minimum age of 3\, maximum weight of 100lbs.)\n\n\n\n\n\n\nSample Itinerary:\n\n\n\nFirst 10 minutes – Barn tour and elf hunt \n\n\n\nNext 20 minutes – Milk and cookies and Santa and mini photoshoot \n\n\n\nLast 10 minutes – Pony ride (minimum age of 3 and maximum weight of 100lbs.)
URL:https://poniesandpipsqueaks.com/event/milk-and-cookies-with-santa-mini-photoshoots-21/
CATEGORIES:Milk and Cookies with Santa Experience
ATTACH;FMTTYPE=image/jpeg:https://poniesandpipsqueaks.com/wp-content/uploads/2021/02/CATF04-scaled-e1753296925333.jpg
END:VEVENT
BEGIN:VEVENT
DTSTART;TZID=America/Vancouver:20231118T113000
DTEND;TZID=America/Vancouver:20231118T121000
DTSTAMP:20260420T213759
CREATED:20230901T032029Z
LAST-MODIFIED:20231118T055121Z
UID:10001709-1700307000-1700309400@poniesandpipsqueaks.com
SUMMARY:Milk and Cookies with Santa
DESCRIPTION:This magical experience starts with a barn tour with Mrs. Claus and Elf hunt.  Enjoy some milk and cookies with Santa himself as Tessa Leena Photography captures the magical moments.  Finish it all off with a pony ride! To make Santa’s visit even more special we ask you to fill in a questionnaire about your child when you register to refresh Santa’s memory on things that you’ve done this year and what he brought last year. \n\n\n\n\n\n\n\n\n\n\n\n\n\n\n\n\n\n\n\n\n\n\n\n\n\n\n\n\n\n\n\nProgram Details:\n\n\n\n\nUp to 4 children\n\n\n\n40 minutes in length\n\n\n\nBarn Tour\n\n\n\n20 minute mini photoshoot with Tessa Leena Photography\n\n\n\nIncludes 5 pictures (digital files). Additional files can be purchased for $20+GST\n\n\n\nChocolate chip cookies and 2% milk provided. (Please bring your own substitutes if dietary restrictions apply)\n\n\n\nPony ride (minimum age of 3\, maximum weight of 100lbs.)\n\n\n\n\n\n\nSample Itinerary:\n\n\n\nFirst 10 minutes – Barn tour and elf hunt \n\n\n\nNext 20 minutes – Milk and cookies and Santa \n\n\n\nLast 10 minutes – Pony ride (minimum age of 3 and maximum weight of 100lbs.)
URL:https://poniesandpipsqueaks.com/event/milk-and-cookies-with-santa-mini-photoshoots-22/
CATEGORIES:Milk and Cookies with Santa Experience
ATTACH;FMTTYPE=image/jpeg:https://poniesandpipsqueaks.com/wp-content/uploads/2021/02/CATF04-scaled-e1753296925333.jpg
END:VEVENT
BEGIN:VEVENT
DTSTART;TZID=America/Vancouver:20231118T130000
DTEND;TZID=America/Vancouver:20231118T134000
DTSTAMP:20260420T213759
CREATED:20230901T032042Z
LAST-MODIFIED:20231114T221153Z
UID:10001710-1700312400-1700314800@poniesandpipsqueaks.com
SUMMARY:Milk and Cookies with Santa
DESCRIPTION:This magical experience includes a barn tour with Mrs. Claus and Elf hunt . Tessa Leena Photography will capture the magical moments while enjoying some milk and cookies with Santa himself and a pony ride! To make Santa’s visit even more special we ask you to fill in a questionnaire about your child when you register to refresh Santa’s memory on things that you’ve done this year and what he brought last year. \n\n\n\n\n\n\n\n\n\n\n\n\n\n\n\n\n\n\n\n\n\n\n\n\n\n\n\n\n\n\n\nProgram Details:\n\n\n\n\nUp to 4 children\n\n\n\n40 minutes in length\n\n\n\nBarn Tour\n\n\n\nProfessional photo by Tessa Leena Photography of your experience\n\n\n\nIncludes 5 pictures (digital files).  Additional files can be purchased for $20+GST\n\n\n\nChocolate chip cookies and 2% milk provided. (Please bring your own substitutes if dietary restrictions apply)\n\n\n\nPony ride (minimum age of 3\, maximum weight of 100lbs.)\n\n\n\n\n\n\nSample Itinerary:\n\n\n\nFirst 10 minutes – Barn tour and elf hunt \n\n\n\nNext 20 minutes – Milk and cookies and Santa with professional photos of your expereince. \n\n\n\nLast 10 minutes – Pony ride (minimum age of 3 and maximum weight of 100lbs.)
URL:https://poniesandpipsqueaks.com/event/milk-and-cookies-with-santa-mini-photoshoots-23/
CATEGORIES:Milk and Cookies with Santa Experience
ATTACH;FMTTYPE=image/jpeg:https://poniesandpipsqueaks.com/wp-content/uploads/2021/02/CATF04-scaled-e1753296925333.jpg
END:VEVENT
BEGIN:VEVENT
DTSTART;TZID=America/Vancouver:20231118T134500
DTEND;TZID=America/Vancouver:20231118T142500
DTSTAMP:20260420T213759
CREATED:20230901T032052Z
LAST-MODIFIED:20231031T073102Z
UID:10001711-1700315100-1700317500@poniesandpipsqueaks.com
SUMMARY:Milk and Cookies with Santa
DESCRIPTION:This magical experience starts with a barn tour with Mrs. Claus and Elf hunt. Enjoy some milk and cookies with Santa himself as Tessa Leena Photography captures the magical moments. Finish it all off with a pony ride! To make Santa’s visit even more special we ask you to fill in a questionnaire about your child when you register to refresh Santa’s memory on things that you’ve done this year and what he brought last year. \n\n\n\n\n\n\n\n\n\n\n\n\n\n\n\n\n\n\n\n\n\n\n\n\n\n\n\n\n\n\n\nProgram Details:\n\n\n\n\nUp to 4 children\n\n\n\n40 minutes in length\n\n\n\nBarn Tour\n\n\n\nPhotos of your Santa visit by Tessa Leena Photography\n\n\n\nIncludes 5 pictures (digital files). Additional files can be purchased for $20+GST/file.\n\n\n\nChocolate chip cookies and 2% milk provided. (Please bring your own substitutes if dietary restrictions apply)\n\n\n\nPony ride (minimum age of 3\, maximum weight of 100lbs.)\n\n\n\n\n\n\nSample Itinerary:\n\n\n\nFirst 10 minutes – Barn tour and elf hunt \n\n\n\nNext 20 minutes – Milk and cookies with Santa with photos by Tessa Leena Photography \n\n\n\nLast 10 minutes – Pony ride (minimum age of 3 and maximum weight of 100lbs.)
URL:https://poniesandpipsqueaks.com/event/milk-and-cookies-with-santa-mini-photoshoots-24/
CATEGORIES:Milk and Cookies with Santa Experience
ATTACH;FMTTYPE=image/jpeg:https://poniesandpipsqueaks.com/wp-content/uploads/2021/02/CATF04-scaled-e1753296925333.jpg
END:VEVENT
BEGIN:VEVENT
DTSTART;TZID=America/Vancouver:20231118T143000
DTEND;TZID=America/Vancouver:20231118T151000
DTSTAMP:20260420T213759
CREATED:20230901T032108Z
LAST-MODIFIED:20231118T055406Z
UID:10001712-1700317800-1700320200@poniesandpipsqueaks.com
SUMMARY:Milk and Cookies with Santa
DESCRIPTION:This magical experience starts with a barn tour with Mrs. Claus and Elf hunt. Enjoy some milk and cookies with Santa himself as Tessa Leena Photography captures the magical moments. Finish it all off with a pony ride! To make Santa’s visit even more special we ask you to fill in a questionnaire about your child when you register to refresh Santa’s memory on things that you’ve done this year and what he brought last year. \n\n\n\n\n\n\n\n\n\n\n\n\n\n\n\n\n\n\n\n\n\n\n\n\n\n\n\n\n\n\n\nProgram Details:\n\n\n\n\nUp to 4 children\n\n\n\n40 minutes in length\n\n\n\nBarn Tour\n\n\n\nMilk and cookies and Santa while Tessa Leena Photography captures the magic moments\n\n\n\nIncludes 5 pictures (digital files). Additional files can be purchased for $20+GST/file.\n\n\n\nChocolate chip cookies and 2% milk provided. (Please bring your own substitutes if dietary restrictions apply)\n\n\n\nPony ride (minimum age of 3\, maximum weight of 100lbs.)\n\n\n\n\n\n\nSample Itinerary:\n\n\n\nFirst 10 minutes – Barn tour and elf hunt \n\n\n\nNext 20 minutes – Milk and cookies and Santa while Tessa Leena Photography captures the magic moments \n\n\n\nLast 10 minutes – Pony ride (minimum age of 3 and maximum weight of 100lbs.)
URL:https://poniesandpipsqueaks.com/event/milk-and-cookies-with-santa-mini-photoshoots-25/
CATEGORIES:Milk and Cookies with Santa Experience
ATTACH;FMTTYPE=image/jpeg:https://poniesandpipsqueaks.com/wp-content/uploads/2021/02/CATF04-scaled-e1753296925333.jpg
END:VEVENT
BEGIN:VEVENT
DTSTART;TZID=America/Vancouver:20231118T151500
DTEND;TZID=America/Vancouver:20231118T155500
DTSTAMP:20260420T213759
CREATED:20230901T032121Z
LAST-MODIFIED:20231031T073545Z
UID:10001713-1700320500-1700322900@poniesandpipsqueaks.com
SUMMARY:Milk and Cookies with Santa
DESCRIPTION:This magical experience starts with a barn tour with Mrs. Claus and Elf hunt. Enjoy some milk and cookies with Santa himself as Tessa Leena Photography captures the magical moments. Finish it all off with a pony ride! To make Santa’s visit even more special we ask you to fill in a questionnaire about your child when you register to refresh Santa’s memory on things that you’ve done this year and what he brought last year. \n\n\n\n\n\n\n\n\n\n\n\n\n\n\n\n\n\n\n\n\n\n\n\n\n\n\n\n\n\n\n\nProgram Details:\n\n\n\n\nUp to 4 children\n\n\n\n40 minutes in length\n\n\n\nBarn Tour\n\n\n\nMilk and cookies with Santa and professional photos of your experience by Tessa Leena Photography\n\n\n\nIncludes 5 pictures (digital files). Additional files can be purchased for $20+GST\n\n\n\nChocolate chip cookies and 2% milk provided. (Please bring your own substitutes if dietary restrictions apply)\n\n\n\nPony ride (minimum age of 3\, maximum weight of 100lbs.)\n\n\n\n\n\n\nSample Itinerary:\n\n\n\nFirst 10 minutes – Barn tour and elf hunt \n\n\n\nNext 20 minutes – Milk and cookies and Santa and professional photos of your experience by Tessa Leena Photography. \n\n\n\nLast 10 minutes – Pony ride (minimum age of 3 and maximum weight of 100lbs.)
URL:https://poniesandpipsqueaks.com/event/milk-and-cookies-with-santa-mini-photoshoots-26/
CATEGORIES:Milk and Cookies with Santa Experience
ATTACH;FMTTYPE=image/jpeg:https://poniesandpipsqueaks.com/wp-content/uploads/2021/02/CATF04-scaled-e1753296925333.jpg
END:VEVENT
BEGIN:VEVENT
DTSTART;TZID=America/Vancouver:20231118T160000
DTEND;TZID=America/Vancouver:20231118T164000
DTSTAMP:20260420T213759
CREATED:20230901T032138Z
LAST-MODIFIED:20231025T002855Z
UID:10001714-1700323200-1700325600@poniesandpipsqueaks.com
SUMMARY:Milk and Cookies with Santa
DESCRIPTION:This magical experience starts with a barn tour with Mrs. Claus and Elf hunt. Enjoy some milk and cookies with Santa himself as Tessa Leena Photography captures the magical moments. Finish it all off with a pony ride! To make Santa’s visit even more special we ask you to fill in a questionnaire about your child when you register to refresh Santa’s memory on things that you’ve done this year and what he brought last year. \n\n\n\n\n\n\n\n\n\n\n\n\n\n\n\n\n\n\n\n\n\n\n\n\n\n\n\n\n\n\n\nProgram Details:\n\n\n\n\nUp to 4 children\n\n\n\n40 minutes in length\n\n\n\nBarn Tour\n\n\n\nMilk and cookies with Santa while Tessa Leena Photography captures the magic moments\n\n\n\nIncludes 5 pictures (digital files). Additional files can be purchased for $20+GST/file.\n\n\n\nChocolate chip cookies and 2% milk provided. (Please bring your own substitutes if dietary restrictions apply)\n\n\n\nPony ride (minimum age of 3\, maximum weight of 100lbs.)\n\n\n\n\n\n\nSample Itinerary:\n\n\n\nFirst 10 minutes – Barn tour and elf hunt \n\n\n\nNext 20 minutes – Milk and cookies and Santa while Tessa Leena Photography captures the magic moments \n\n\n\nLast 10 minutes – Pony ride (minimum age of 3 and maximum weight of 100lbs.)
URL:https://poniesandpipsqueaks.com/event/milk-and-cookies-with-santa-mini-photoshoots-27/
CATEGORIES:Milk and Cookies with Santa Experience
ATTACH;FMTTYPE=image/jpeg:https://poniesandpipsqueaks.com/wp-content/uploads/2021/02/CATF04-scaled-e1753296925333.jpg
END:VEVENT
END:VCALENDAR