BEGIN:VCALENDAR
VERSION:2.0
PRODID:-//Ponies &amp; Pipsqueaks - ECPv6.15.20//NONSGML v1.0//EN
CALSCALE:GREGORIAN
METHOD:PUBLISH
X-ORIGINAL-URL:https://poniesandpipsqueaks.com
X-WR-CALDESC:Events for Ponies &amp; Pipsqueaks
REFRESH-INTERVAL;VALUE=DURATION:PT1H
X-Robots-Tag:noindex
X-PUBLISHED-TTL:PT1H
BEGIN:VTIMEZONE
TZID:America/Vancouver
BEGIN:DAYLIGHT
TZOFFSETFROM:-0800
TZOFFSETTO:-0700
TZNAME:PDT
DTSTART:20220313T100000
END:DAYLIGHT
BEGIN:STANDARD
TZOFFSETFROM:-0700
TZOFFSETTO:-0800
TZNAME:PST
DTSTART:20221106T090000
END:STANDARD
BEGIN:DAYLIGHT
TZOFFSETFROM:-0800
TZOFFSETTO:-0700
TZNAME:PDT
DTSTART:20230312T100000
END:DAYLIGHT
BEGIN:STANDARD
TZOFFSETFROM:-0700
TZOFFSETTO:-0800
TZNAME:PST
DTSTART:20231105T090000
END:STANDARD
BEGIN:DAYLIGHT
TZOFFSETFROM:-0800
TZOFFSETTO:-0700
TZNAME:PDT
DTSTART:20240310T100000
END:DAYLIGHT
BEGIN:STANDARD
TZOFFSETFROM:-0700
TZOFFSETTO:-0800
TZNAME:PST
DTSTART:20241103T090000
END:STANDARD
END:VTIMEZONE
BEGIN:VEVENT
DTSTART;TZID=America/Vancouver:20231028T100000
DTEND;TZID=America/Vancouver:20231028T120000
DTSTAMP:20260425T163149
CREATED:20230902T044124Z
LAST-MODIFIED:20230902T044126Z
UID:10001743-1698487200-1698494400@poniesandpipsqueaks.com
SUMMARY:Halloween on the Farm 10am - 12pm
DESCRIPTION:Show off your Halloween costume and join us for fun on the farm with Roddy the Pumpkin Elf! \n\n\n\nWe will start with a ghost hunt in the barn\, followed by a visit with Roddy the Pumpkin Elf to tell you the tale of Halloweens past. We top off your visit with a craft\, castle playtime\, pony grooming and of course\, a pony ride! \n\n\n\n10:00am – 12:00pm (showtime at 10:20am) OR 2:00pm – 4:00pm (showtime at 2:20pm) \n\n\n\nPLEASE NOTE:  Sign in opens at 9:40am and closes at 10:20am.  Please arrive before 2pm to sign a waiver.   \n\n\n\nCLOSE TOED SHOES MUST BE WORN BY EVERYONE ON THE PROPERTY.  THIS INCLUDES PARENTS AND SPECTATORS.
URL:https://poniesandpipsqueaks.com/event/halloween-on-the-farm-10am-12pm/
LOCATION:The Briar Patch Farm\, 6044 Oldfield Road\, Saanich\, BC\, Canada
END:VEVENT
BEGIN:VEVENT
DTSTART;TZID=America/Vancouver:20231028T140000
DTEND;TZID=America/Vancouver:20231028T160000
DTSTAMP:20260425T163149
CREATED:20230902T044714Z
LAST-MODIFIED:20230902T044716Z
UID:10001745-1698501600-1698508800@poniesandpipsqueaks.com
SUMMARY:Halloween on the Farm 2pm - 4pm
DESCRIPTION:Show off your Halloween costume and join us for fun on the farm with Roddy the Pumpkin Elf! \n\n\n\nWe will start with a ghost hunt in the barn\, followed by a visit with Roddy the Pumpkin Elf to tell you the tale of Halloweens past. We top off your visit with a craft\, castle playtime\, pony grooming and of course\, a pony ride! \n\n\n\n10:00am – 12:00pm (showtime at 10:20am) OR 2:00pm – 4:00pm (showtime at 2:20pm) \n\n\n\nPLEASE NOTE:  Sign in opens at 1:40am and closes at 2:20am.  Please arrive before 2pm to sign a waiver.   \n\n\n\nCLOSE TOED SHOES MUST BE WORN BY EVERYONE ON THE PROPERTY.  THIS INCLUDES PARENTS AND SPECTATORS.
URL:https://poniesandpipsqueaks.com/event/halloween-on-the-farm-2pm-4pm/
LOCATION:The Briar Patch Farm\, 6044 Oldfield Road\, Saanich\, BC\, Canada
END:VEVENT
END:VCALENDAR