BEGIN:VCALENDAR
VERSION:2.0
PRODID:-//Ponies &amp; Pipsqueaks - ECPv6.15.20//NONSGML v1.0//EN
CALSCALE:GREGORIAN
METHOD:PUBLISH
X-WR-CALNAME:Ponies &amp; Pipsqueaks
X-ORIGINAL-URL:https://poniesandpipsqueaks.com
X-WR-CALDESC:Events for Ponies &amp; Pipsqueaks
REFRESH-INTERVAL;VALUE=DURATION:PT1H
X-Robots-Tag:noindex
X-PUBLISHED-TTL:PT1H
BEGIN:VTIMEZONE
TZID:America/Vancouver
BEGIN:DAYLIGHT
TZOFFSETFROM:-0800
TZOFFSETTO:-0700
TZNAME:PDT
DTSTART:20220313T100000
END:DAYLIGHT
BEGIN:STANDARD
TZOFFSETFROM:-0700
TZOFFSETTO:-0800
TZNAME:PST
DTSTART:20221106T090000
END:STANDARD
BEGIN:DAYLIGHT
TZOFFSETFROM:-0800
TZOFFSETTO:-0700
TZNAME:PDT
DTSTART:20230312T100000
END:DAYLIGHT
BEGIN:STANDARD
TZOFFSETFROM:-0700
TZOFFSETTO:-0800
TZNAME:PST
DTSTART:20231105T090000
END:STANDARD
BEGIN:DAYLIGHT
TZOFFSETFROM:-0800
TZOFFSETTO:-0700
TZNAME:PDT
DTSTART:20240310T100000
END:DAYLIGHT
BEGIN:STANDARD
TZOFFSETFROM:-0700
TZOFFSETTO:-0800
TZNAME:PST
DTSTART:20241103T090000
END:STANDARD
END:VTIMEZONE
BEGIN:VEVENT
DTSTART;TZID=America/Vancouver:20230820T100000
DTEND;TZID=America/Vancouver:20230820T110000
DTSTAMP:20260423T012012
CREATED:20221213T210817Z
LAST-MODIFIED:20221214T212651Z
UID:10001410-1692525600-1692529200@poniesandpipsqueaks.com
SUMMARY:Weekly Adventure Quests - 6-Week Session 4 - 10am
DESCRIPTION:Costumes\, ponies\, adventure quests and endless possibilities! \n\n\n\nPonies and Pipsqueaks Adventure Quest Programs are a great way to introduce children to ponies. This 6 week program is structured for children 3.5-7\, incorporating imagination play and pony rides. \n\n\n\nTo view the dates in this session\, click the “see all” link above.
URL:https://poniesandpipsqueaks.com/event/weekly-adventure-quests-6-week-session-4-10am/
LOCATION:The Briar Patch Farm\, 6044 Oldfield Road\, Saanich\, BC\, Canada
CATEGORIES:Pony Adventure
ATTACH;FMTTYPE=image/jpeg:https://poniesandpipsqueaks.com/wp-content/uploads/2022/01/DSC_8692WEB-1.jpg
END:VEVENT
BEGIN:VEVENT
DTSTART;TZID=America/Vancouver:20230820T113000
DTEND;TZID=America/Vancouver:20230820T123000
DTSTAMP:20260423T012012
CREATED:20221213T190619Z
LAST-MODIFIED:20221213T190622Z
UID:10001393-1692531000-1692534600@poniesandpipsqueaks.com
SUMMARY:Weekly Adventure Quests - 6-Week Session 4 - 11:30am
DESCRIPTION:Costumes\, ponies\, adventure quests and endless possibilities! \n\n\n\nPonies and Pipsqueaks Adventure Quest Programs are a great way to introduce children to ponies. This 6 week program is structured for children 3.5-7\, incorporating imagination play and pony rides. \n\n\n\nTo view the dates in this session\, click the “see all” link above.
URL:https://poniesandpipsqueaks.com/event/weekly-adventure-quests-6-week-session-4-1130am/
LOCATION:The Briar Patch Farm\, 6044 Oldfield Road\, Saanich\, BC\, Canada
CATEGORIES:Pony Adventure
ATTACH;FMTTYPE=image/jpeg:https://poniesandpipsqueaks.com/wp-content/uploads/2022/01/DSC_8692WEB-1.jpg
END:VEVENT
END:VCALENDAR