BEGIN:VCALENDAR
VERSION:2.0
PRODID:-//Ponies &amp; Pipsqueaks - ECPv6.15.20//NONSGML v1.0//EN
CALSCALE:GREGORIAN
METHOD:PUBLISH
X-WR-CALNAME:Ponies &amp; Pipsqueaks
X-ORIGINAL-URL:https://poniesandpipsqueaks.com
X-WR-CALDESC:Events for Ponies &amp; Pipsqueaks
REFRESH-INTERVAL;VALUE=DURATION:PT1H
X-Robots-Tag:noindex
X-PUBLISHED-TTL:PT1H
BEGIN:VTIMEZONE
TZID:America/Vancouver
BEGIN:DAYLIGHT
TZOFFSETFROM:-0800
TZOFFSETTO:-0700
TZNAME:PDT
DTSTART:20220313T100000
END:DAYLIGHT
BEGIN:STANDARD
TZOFFSETFROM:-0700
TZOFFSETTO:-0800
TZNAME:PST
DTSTART:20221106T090000
END:STANDARD
BEGIN:DAYLIGHT
TZOFFSETFROM:-0800
TZOFFSETTO:-0700
TZNAME:PDT
DTSTART:20230312T100000
END:DAYLIGHT
BEGIN:STANDARD
TZOFFSETFROM:-0700
TZOFFSETTO:-0800
TZNAME:PST
DTSTART:20231105T090000
END:STANDARD
BEGIN:DAYLIGHT
TZOFFSETFROM:-0800
TZOFFSETTO:-0700
TZNAME:PDT
DTSTART:20240310T100000
END:DAYLIGHT
BEGIN:STANDARD
TZOFFSETFROM:-0700
TZOFFSETTO:-0800
TZNAME:PST
DTSTART:20241103T090000
END:STANDARD
END:VTIMEZONE
BEGIN:VEVENT
DTSTART;TZID=America/Vancouver:20230315T170000
DTEND;TZID=America/Vancouver:20230315T183000
DTSTAMP:20260425T124048
CREATED:20230215T202357Z
LAST-MODIFIED:20230221T024414Z
UID:10001598-1678899600-1678905000@poniesandpipsqueaks.com
SUMMARY:Girl Guides - 2nd Woodwyn Sparks
DESCRIPTION:Field Trip for 2nd Woodwyn Sparks \n\n\n\nSample Itinerary: \n\n\n\nFirst 10 minutes – Barn Tour\, meet the horses \n\n\n\nNext 20 minutes – Pony Grooming Lesson \n\n\n\nNext 10 minutes – Transform ponies into Unicorns \n\n\n\nNext 20 minutes – Learn to lead a pony \n\n\n\nLast 15-30 minutes – Castle playtime \n\n\n\nPlease ask parents to arrive 5-10 minutes early to sign a waiver.  You are welcome to extend the visit to 6:30 if you would like.
URL:https://poniesandpipsqueaks.com/event/2nd-woodwind-sparks-visit/
LOCATION:The Briar Patch Farm\, 6044 Oldfield Rd\, Saanich\, BC\, V9E 2J4\, Canada
ATTACH;FMTTYPE=image/jpeg:https://poniesandpipsqueaks.com/wp-content/uploads/2023/02/Meet-the-Ponies-2.jpg
END:VEVENT
BEGIN:VEVENT
DTSTART;TZID=America/Vancouver:20230315T170000
DTEND;TZID=America/Vancouver:20230315T190000
DTSTAMP:20260425T124048
CREATED:20230221T024157Z
LAST-MODIFIED:20230221T024510Z
UID:10001599-1678899600-1678906800@poniesandpipsqueaks.com
SUMMARY:Girl Guides - 2nd Woodwyn Sparks
DESCRIPTION:Picture frame craft and printed picture with pony
URL:https://poniesandpipsqueaks.com/event/girl-guides-2nd-woodwyn-sparks/
LOCATION:The Briar Patch Farm\, 6044 Oldfield Rd\, Saanich\, BC\, V9E 2J4\, Canada
END:VEVENT
END:VCALENDAR